BEGIN:VCALENDAR
PRODID:/modules.php?act=getical&eid=38091&name=Schedule
VERSION:2.0
CALSCALE:GREGORIAN
METHOD:PUBLISH
X-WR-CALNAME:Lebendiges Aachen-Dance of Joy im Alten Rathaus
X-WR-TIMEZONE:Europe/Berlin
X-WR-CALDESC:Original by https://www.lebendiges-aachen.de/
 Created by mxSchedule 
 Tecmu 2010-2026
BEGIN:VTIMEZONE
TZID:Europe/Berlin
X-LIC-LOCATION:Europe/Berlin
BEGIN:STANDARD
TZOFFSETFROM:+0100
TZOFFSETTO:+0200
TZNAME:CEST
DTSTART:19701025T030000
RRULE:FREQ=YEARLY;BYMONTH=10;BYDAY=-1SU
END:STANDARD
BEGIN:DAYLIGHT
TZOFFSETFROM:+0100
TZOFFSETTO:+0200
TZNAME:CEST
DTSTART:19700329T020000
RRULE:FREQ=YEARLY;BYMONTH=4;BYDAY=1SU
END:DAYLIGHT
END:VTIMEZONE
BEGIN:VEVENT
ORGANIZER;CN=Stadt_Wuerselen-Pressestelle@wuerselen.de
DTSTART:20260425T200400
DTEND:20260425T100415
UID:6890b07b56907e7c9d13074f41a5df67
CREATED:20260420T170447
SUMMARY:Dance of Joy im Alten Rathaus
DESCRIPTION:Die mitrei&szlig;ende Klezmer Band aus der Region. Ein musikalischer Leckerbissen.

Mit &uuml;bersch&auml;umendem Temperament und viel Einf&uuml;hlungsverm&ouml;gen, mit Humor und Charme spielen die vier Musiker (Jean Francois Foliez &ndash; Klarinette, Johanna Schmidt &ndash; Violine, Csaba Sz&eacute;kely &ndash; Gitarre, Werner Lauscher &ndash; Bass) &bdquo;Klezmer-Unterhaltung auf h&ouml;chstem Niveau&ldquo; (FAZ).

Ihre Musik &ouml;ffnet die Fenster der Seele und flie&szlig;t grenzenlos von Herz zu Herz. Die Musik von Dance of Joy l&auml;dt zum Lauschen ein und ihre heilsame Kraft erf&uuml;llt die Seelen mit guter Energie.

Bei Dance of Joy trifft traditionelle Klezmermusik mit ihren musikalischen Wurzeln aus Osteuropa, dem Balkan und dem Orient mit der Musik von Bach bis Bernstein zusammen und nimmt den Zuh&ouml;rer mit auf eine Reise durch die L&auml;nder und Zeiten. Das Aachener Quartett verwebt Melodien und Rhythmen aus verschiedenen Kulturkreisen und musikalischen Traditionen und tr&auml;gt so dazu bei, dass die Musik des osteurop&auml;ischen Judentums lebendig und aktuell bleibt und &ndash; &uuml;ber physische oder kulturelle Grenzen hinweg &ndash; Menschen miteinander verbindet.

&nbsp;

Veranstaltungstag:

Samstag, 25.04.2026, 20 Uhr

Veranstaltungsort:

Kulturzentrum Altes Rathaus

Kaiserstra&szlig;e 36, W&uuml;rselen

Informationen und Tickets:

www.burg-wilhelmstein.com/altes-rathaus-wuerselen

Telefon 02405 42949-0
 Veröffentlicht von  https://www.lebendiges-aachen.de/
LAST-MODIFIED:20260420T170447
END:VEVENT
END:VCALENDAR
