BEGIN:VCALENDAR
PRODID:/modules.php?act=getical&eid=38090&name=Schedule
VERSION:2.0
CALSCALE:GREGORIAN
METHOD:PUBLISH
X-WR-CALNAME:Lebendiges Aachen-Sprechstunde von Bezirksbürgermeister Daniel Hecker
X-WR-TIMEZONE:Europe/Berlin
X-WR-CALDESC:Original by https://www.lebendiges-aachen.de/
 Created by mxSchedule 
 Tecmu 2010-2026
BEGIN:VTIMEZONE
TZID:Europe/Berlin
X-LIC-LOCATION:Europe/Berlin
BEGIN:STANDARD
TZOFFSETFROM:+0100
TZOFFSETTO:+0200
TZNAME:CEST
DTSTART:19701025T030000
RRULE:FREQ=YEARLY;BYMONTH=10;BYDAY=-1SU
END:STANDARD
BEGIN:DAYLIGHT
TZOFFSETFROM:+0100
TZOFFSETTO:+0200
TZNAME:CEST
DTSTART:19700329T020000
RRULE:FREQ=YEARLY;BYMONTH=4;BYDAY=1SU
END:DAYLIGHT
END:VTIMEZONE
BEGIN:VEVENT
ORGANIZER;CN=Stadt_Aachen-presse@mail.aachen.de
DTSTART:20260421T100400
DTEND:20260421T120400
UID:461c5e17bfac05e421575da0945e02af
CREATED:20260421T140409
SUMMARY:Sprechstunde von Bezirksbürgermeister Daniel Hecker
DESCRIPTION:Der Bezirksb&uuml;rgermeister von Aachen-Haaren, Daniel Hecker, l&auml;dt am Dienstag, 21. April, zwischen 10 und 12 Uhr alle B&uuml;rgerinnen und B&uuml;rger zu einer Sprechstunde ein. Er steht in dieser Zeit im Sitzungssaal des B&uuml;rgerhauses, Germanusstra&szlig;e 38, f&uuml;r Gespr&auml;che zur Verf&uuml;gung und ist ebenfalls telefonisch unter 0241 432-8381 zu erreichen.

Interessierte werden gebeten, sich vorher telefonisch unter 0241 432-8301 oder per Mail an bezirksamt.haaren@mail.aachen.de anzumelden.

Wer au&szlig;erhalb der Sprechstunden ein Anliegen mit Bezirksb&uuml;rgermeister Hecker besprechen m&ouml;chte, kann gerne einen gesonderten Termin vereinbaren.
 Veröffentlicht von  https://www.lebendiges-aachen.de/
LAST-MODIFIED:20260421T140409
END:VEVENT
END:VCALENDAR
