BEGIN:VCALENDAR
PRODID:/modules.php?act=getical&eid=38089&name=Schedule
VERSION:2.0
CALSCALE:GREGORIAN
METHOD:PUBLISH
X-WR-CALNAME:Lebendiges Aachen-Telefonische Bürgersprechstunde mit Städteregionsrat Dr. Tim Grüttemeier
X-WR-TIMEZONE:Europe/Berlin
X-WR-CALDESC:Original by https://www.lebendiges-aachen.de/
 Created by mxSchedule 
 Tecmu 2010-2026
BEGIN:VTIMEZONE
TZID:Europe/Berlin
X-LIC-LOCATION:Europe/Berlin
BEGIN:STANDARD
TZOFFSETFROM:+0100
TZOFFSETTO:+0200
TZNAME:CEST
DTSTART:19701025T030000
RRULE:FREQ=YEARLY;BYMONTH=10;BYDAY=-1SU
END:STANDARD
BEGIN:DAYLIGHT
TZOFFSETFROM:+0100
TZOFFSETTO:+0200
TZNAME:CEST
DTSTART:19700329T020000
RRULE:FREQ=YEARLY;BYMONTH=4;BYDAY=1SU
END:DAYLIGHT
END:VTIMEZONE
BEGIN:VEVENT
ORGANIZER;CN=Stadt_Aachen-presse@mail.aachen.de
DTSTART:20260422T150430
DTEND:20260422T160430
UID:e962c71650f52d8ac5b666d7009c3607
CREATED:20260421T010424
SUMMARY:Telefonische Bürgersprechstunde mit Städteregionsrat Dr. Tim Grüttemeier
DESCRIPTION:St&auml;dteRegion Aachen. St&auml;dteregionsrat Dr. Tim Gr&uuml;ttemeier hat immer ein offenes Ohr f&uuml;r die Menschen. Wer Fragen, ein Problem oder ein besonderes Anliegen hat, ist herzlich zum Gespr&auml;ch eingeladen. Dr. Gr&uuml;ttemeier bietet dazu regelm&auml;&szlig;ig eine telefonische Sprechstunde an. Die n&auml;chste findet am Mittwoch, dem 22. April, mittags statt. Alle, die ein Gespr&auml;ch w&uuml;nschen, k&ouml;nnen sich unter der Telefonnummer 0241/5198-2442 anmelden. Sie erhalten dann die genaue Uhrzeit, zu der sie vom St&auml;dteregionsrat zur&uuml;ckgerufen werden.
 Veröffentlicht von  https://www.lebendiges-aachen.de/
LAST-MODIFIED:20260421T010424
END:VEVENT
END:VCALENDAR
