BEGIN:VCALENDAR
PRODID:/modules.php?act=getical&eid=38088&name=Schedule
VERSION:2.0
CALSCALE:GREGORIAN
METHOD:PUBLISH
X-WR-CALNAME:Lebendiges Aachen-Duo „flute
X-WR-TIMEZONE:Europe/Berlin
X-WR-CALDESC:Original by https://www.lebendiges-aachen.de/
 Created by mxSchedule 
 Tecmu 2010-2026
BEGIN:VTIMEZONE
TZID:Europe/Berlin
X-LIC-LOCATION:Europe/Berlin
BEGIN:STANDARD
TZOFFSETFROM:+0100
TZOFFSETTO:+0200
TZNAME:CEST
DTSTART:19701025T030000
RRULE:FREQ=YEARLY;BYMONTH=10;BYDAY=-1SU
END:STANDARD
BEGIN:DAYLIGHT
TZOFFSETFROM:+0100
TZOFFSETTO:+0200
TZNAME:CEST
DTSTART:19700329T020000
RRULE:FREQ=YEARLY;BYMONTH=4;BYDAY=1SU
END:DAYLIGHT
END:VTIMEZONE
BEGIN:VEVENT
ORGANIZER;CN=Stadt_Eschweiler-Michael.Grobusch@eschweiler.de
DTSTART:20260424T190400
DTEND:20260424T090445
UID:128533293c9a1238dff6c09cb56f87a8
CREATED:20260421T100421
SUMMARY:Duo „flute
DESCRIPTION:Musikliebhaberinnen und Musikliebhaber d&uuml;rfen sich auf ein kulturelles Highlight freuen: Das Duo &bdquo;flute&#39;n strings&quot; l&auml;dt f&uuml;r Freitag, 24. April 2026, zu einem Konzertabend in die Villa Faensen (Marienstra&szlig;e 7) ein.

Unter dem Titel &bdquo;Rock &#39;n&#39; Roll und andere Lieder&quot; pr&auml;sentiert das Duo ein Programm, das mit Authentizit&auml;t und Spielfreude besticht.

Das Repertoire umfasst vor allem Songs aus den 1950er bis 1980er Jahren. Die Musik vermittelt das gro&szlig;artige Lebensgef&uuml;hl und den Zeitgeist dieser Jahrzehnte und sorgt garantiert f&uuml;r gute Laune. Von schnellen Rock&#39;n&#39;Roll-Nummern &uuml;ber klassische Rockst&uuml;cke bis hin zu gef&uuml;hlvollen Balladen ist f&uuml;r jeden Geschmack etwas dabei.

Das Besondere an &bdquo;flute&#39;n strings&quot; ist die liebevolle Aufbereitung der St&uuml;cke: Sie werden passend zur Instrumentierung arrangiert, ohne ihnen dabei den urspr&uuml;nglichen Charakter zu nehmen. Uwe Niessen gibt mit Gitarre und Gesang den musikalischen Kurs vor. Hilde Sch&uuml;ller bereichert die Arrangements mit einem gro&szlig;en Spektrum: Neben der Querfl&ouml;te kommen Blues-Harps, Keys, die Melodika sowie verschiedene Rhythmusinstrumente zum Einsatz.

Das Publikum darf sich auf &bdquo;Handmade Music&quot; im besten Sinne freuen.

Das Konzert beginnt um 19 Uhr. Eine Anmeldung ist nicht erforderlich, der Eintritt ist frei.

Die Idee f&uuml;r diesen Musikabend entstand aus der Begeisterung von musikinteressierten Teilnehmenden eines anderen erfolgreichen Formats, dem &bdquo;Musik-Quiz&quot; in der Villa Faensen. Daraus entwickelte sich die Gruppe &bdquo;Musik Treff Villa&quot;, die sich ehrenamtlich an der Organisation sowie an der inhaltlichen Gestaltung verschiedener Veranstaltungen beteiligt.
 Veröffentlicht von  https://www.lebendiges-aachen.de/
LAST-MODIFIED:20260421T100421
END:VEVENT
END:VCALENDAR
