BEGIN:VCALENDAR
PRODID:/modules.php?act=getical&eid=38081&name=Schedule
VERSION:2.0
CALSCALE:GREGORIAN
METHOD:PUBLISH
X-WR-CALNAME:Lebendiges Aachen-Ausstellungen und Veranstaltungen im LVR-Landesmuseum Bonn im Mai 2026
X-WR-TIMEZONE:Europe/Berlin
X-WR-CALDESC:Original by https://www.lebendiges-aachen.de/
 Created by mxSchedule 
 Tecmu 2010-2026
BEGIN:VTIMEZONE
TZID:Europe/Berlin
X-LIC-LOCATION:Europe/Berlin
BEGIN:STANDARD
TZOFFSETFROM:+0100
TZOFFSETTO:+0200
TZNAME:CEST
DTSTART:19701025T030000
RRULE:FREQ=YEARLY;BYMONTH=10;BYDAY=-1SU
END:STANDARD
BEGIN:DAYLIGHT
TZOFFSETFROM:+0100
TZOFFSETTO:+0200
TZNAME:CEST
DTSTART:19700329T020000
RRULE:FREQ=YEARLY;BYMONTH=4;BYDAY=1SU
END:DAYLIGHT
END:VTIMEZONE
BEGIN:VEVENT
ORGANIZER;CN=LVR-LandesMuseum-Bonn-stephanie.mueller@lvr.de
DTSTART:20260501T190500
DTEND:20260531T190530
UID:88ccea9324a9da1f87d2e11f13c06c4d
CREATED:20260419T210414
SUMMARY:Ausstellungen und Veranstaltungen im LVR-Landesmuseum Bonn im Mai 2026
DESCRIPTION:Aktuelle Ausstellungen

Ab 30. Mai
NACHTWACHE. Ein Escape Game im Museum

Was passiert nachts im Museum? Kehrt dann tats&auml;chlich Stille ein? Oder erwachen die Ausstellungsst&uuml;cke im Schutz der Nacht zu verborgenem Leben? Schnappt euch eine Taschenlampe und entdeckt die im Dunkeln liegenden Ausstellungsr&auml;ume als neue Nachtw&auml;chter im Landesmuseum. Werdet ihr es schaffen, die Geheimnisse hinter den mysteri&ouml;sen Ereignissen rechtzeitig zu entschl&uuml;sseln und wieder Ordnung herzustellen, bevor das Museum am Morgen seine T&uuml;ren &ouml;ffnet? Vom 30. Mai bis zum 30. August 2026 erwartet euch eine rasante R&auml;tseljagd durch die Zeiten und Epochen &ndash; vom Faustkeil aus der Steinzeit bis zum &Ouml;lgem&auml;lde aus dem 17. Jahrhundert.
Das Escape Game kann tags&uuml;ber von Gruppen mit bis zu sechs Personen gespielt werden. R&auml;tsel und Spielumgebung eignen sich f&uuml;r Kinder ab sechs Jahren in Begleitung und f&uuml;r Erwachsene. Die Timeslots k&ouml;nnen online und vor Ort gebucht werden. &bdquo;NACHTWACHE&ldquo; entsteht in Zusammenarbeit mit der Escape Game-Agentur Timebreak Bonn.
Dauerausstellung
WELT IM WANDEL. Das Rheinland vom Mittelalter bis Morgen

Unter dem Titel &bdquo;WELT IM WANDEL. Das Rheinland vom Mittelalter bis Morgen&ldquo; zeigt das LVR-Landesmuseum Bonn den ersten Teil seiner neuer&ouml;ffneten Dauerausstellung. Die v&ouml;llig neu gestaltete Sammlungspr&auml;sentation l&auml;dt zu einer faszinierenden Zeitreise durch 1000 Jahre Kunst- und Kulturgeschichte vom 10. Jahrhundert bis zur Gegenwart ein. Skulpturen, Gem&auml;lde, Grafiken, Fotoarbeiten und Kostbarkeiten des Kunsthandwerks erz&auml;hlen vom Leben und Alltag der Menschen am Rhein, aber auch von gesellschaftlichen Ver&auml;nderungen und neuen kulturellen Perspektiven. Zu den H&ouml;hepunkten der Sammlung z&auml;hlen mittelalterliche Holzskulpturen wie die Piet&agrave; Roettgen, prachtvolles Kunsthandwerk aus den barocken Residenzen, Gem&auml;lde der D&uuml;sseldorfer Malerschule sowie k&uuml;nstlerische Positionen und fotografische Arbeiten vom 20. Jahrhundert bis zur Gegenwart.&nbsp; Die &bdquo;Galerie der unscheinbaren Dinge&ldquo; zeigt erstmals arch&auml;ologische Funde der j&uuml;ngeren Geschichte. Den Bogen ins Morgen schl&auml;gt das &bdquo;Museum der Zukunft&ldquo;, das im Zentrum der Ausstellung zum Austausch &uuml;ber aktuelle Themen und Zukunftsfragen anregt. Zahlreiche interaktive Stationen und Multimedia-Angebote bieten ein Ausstellungserlebnis f&uuml;r alle.

F&uuml;hrungen


Sonntag
3.5.2026
11:30-12:30 Uhr
F&uuml;hrung
Highlights der kulturhistorischen Sammlung
Der gef&uuml;hrte Rundgang stellt herausragende Exponate der Sammlung vom Mittelalter bis heute vor und nimmt Sie mit auf eine faszinierende Zeitreise durch die wechselvolle Kunst- und Kulturgeschichte des Rheinlands.
Kosten: 11 &euro; (inkl. Museumseintritt); Tickets an der Kasse und im Webshop &uuml;ber tickets.lmb.lvr.de

Mittwoch
6.5.2026
14&ndash;16 Uhr
Objektbegutachtung
Ob Erbst&uuml;ck oder Dachbodenfund &ndash; jeden 1. Mittwoch im Monat werfen Wissenschaftler*innen des LVR-Landesmuseums Bonn einen Blick auf mitgebrachte arch&auml;ologische Fundst&uuml;cke, M&uuml;nzen, Kunstwerke, kunsthandwerkliche Arbeiten und Grafiken.&nbsp;
Die Expert*innen geben eine erste Einsch&auml;tzung zu den Objekten, ihrem Alter, den K&uuml;nstlerinnen und K&uuml;nstlern sowie zur kunsthistorischen Einordnung. Preissch&auml;tzungen sind nicht m&ouml;glich. Die Begutachtung findet kostenfrei in der Bibliothek statt.

Sonntag
10.5.2026
11:30-12:30 Uhr
F&uuml;hrung
Geheimnis Neandertaler
Unser Neandertaler lebte vor etwa 42.000 Jahren im Neandertal bei D&uuml;sseldorf. Die F&uuml;hrung nimmt Sie mit in die faszinierende Welt unseres gemeinsamen Vorfahren, dessen Originalskelett in der Dauerausstellung zu sehen ist. Die moderne Forschung hat in den vergangenen Jahren viele neue Erkenntnisse gewonnen &ndash; zum Beispiel, was der Neandertaler gegessen hat, in welchem Klima er lebte und wie eng er mit uns verwandt ist. Erfahren Sie, wie der Neandertaler lebte, wie sein Skelett gefunden wurde und wie er bis heute erforscht wird.
Kosten: 3 &euro; (zzgl. Museumseintritt); Tickets an der Kasse und im Webshop &uuml;ber tickets.lmb.lvr.de
Donnerstag
14.5.2026
11:30-12:30 Uhr
F&uuml;hrung
Kunst des Glaubens
Die F&uuml;hrung nimmt Sie mit auf eine Zeitreise durch die Kunst des Glaubens. Mittelalterliche Kunstwerke aus Kirchen und Kl&ouml;stern des Rheinlands zeigen die tiefe Fr&ouml;mmigkeit der Menschen jener Zeit. Sie erz&auml;hlen aber auch von ver&auml;nderten Glaubensvorstellungen w&auml;hrend der Reformation, gesellschaftlichem Wandel, innovativen Ideen und neuen Medien, die Eingang in die Kunst fanden.
Kosten: 3 &euro; (zzgl. Museumseintritt); Tickets an der Kasse und im Webshop &uuml;ber tickets.lmb.lvr.de

Sonntag
17.5.2026
11:30-12:30 Uhr
F&uuml;hrung
Highlights der kulturhistorischen Sammlung
Der gef&uuml;hrte Rundgang stellt herausragende Exponate der Sammlung vom Mittelalter bis heute vor und nimmt Sie mit auf eine faszinierende Zeitreise durch die wechselvolle Kunst- und Kulturgeschichte des Rheinlands.
Kosten: 3 &euro; (zzgl. Museumseintritt); Tickets an der Kasse und im Webshop &uuml;ber tickets.lmb.lvr.de

Sonntag
25.5.2026
11:30-12:30 Uhr
F&uuml;hrung
Geheimnis Neandertaler
Unser Neandertaler lebte vor etwa 42.000 Jahren im Neandertal bei D&uuml;sseldorf. Die F&uuml;hrung nimmt Sie mit in die faszinierende Welt unseres gemeinsamen Vorfahren, dessen Originalskelett in der Dauerausstellung zu sehen ist. Die moderne Forschung hat in den vergangenen Jahren viele neue Erkenntnisse gewonnen &ndash; zum Beispiel, was der Neandertaler gegessen hat, in welchem Klima er lebte und wie eng er mit uns verwandt ist. Erfahren Sie, wie der Neandertaler lebte, wie sein Skelett gefunden wurde und wie er bis heute erforscht wird.
Kosten: 3 &euro; (zzgl. Museumseintritt); Tickets an der Kasse und im Webshop &uuml;ber tickets.lmb.lvr.de

Veranstaltungen &amp; Workshops
Sonntag
3.5.2026
11:15-12:45 Uhr
Workshop f&uuml;r Kinder
Ritterschild
Stellt euch vor, eine Zeitmaschine bringt euch direkt ins Mittelalter. Dort trefft ihr auf Ritter, deren Schild sie im Kampf und beim Turnier vor den Angriffen des Gegners sch&uuml;tzt. Auf dem Schild tragen sie ihr Wappen &ndash; ihr pers&ouml;nliches Erkennungszeichen, das jeden Schild einzigartig macht. Nach einem Rundgang durch die Dauerausstellung gestaltet ihr euren eigenen Schild. F&uuml;r Kinder ab 8 Jahren.
Kosten: 5&euro;; Tickets an der Kasse und im Webshop &uuml;ber tickets.lmb.lvr.de
 Veröffentlicht von  https://www.lebendiges-aachen.de/
LAST-MODIFIED:20260419T210414
END:VEVENT
END:VCALENDAR
