BEGIN:VCALENDAR
PRODID:/modules.php?act=getical&eid=38080&name=Schedule
VERSION:2.0
CALSCALE:GREGORIAN
METHOD:PUBLISH
X-WR-CALNAME:Lebendiges Aachen-Gemeinschaftliches Kunstprojekt lädt Bürger zum Mitgestalten ein
X-WR-TIMEZONE:Europe/Berlin
X-WR-CALDESC:Original by https://www.lebendiges-aachen.de/
 Created by mxSchedule 
 Tecmu 2010-2026
BEGIN:VTIMEZONE
TZID:Europe/Berlin
X-LIC-LOCATION:Europe/Berlin
BEGIN:STANDARD
TZOFFSETFROM:+0100
TZOFFSETTO:+0200
TZNAME:CEST
DTSTART:19701025T030000
RRULE:FREQ=YEARLY;BYMONTH=10;BYDAY=-1SU
END:STANDARD
BEGIN:DAYLIGHT
TZOFFSETFROM:+0100
TZOFFSETTO:+0200
TZNAME:CEST
DTSTART:19700329T020000
RRULE:FREQ=YEARLY;BYMONTH=4;BYDAY=1SU
END:DAYLIGHT
END:VTIMEZONE
BEGIN:VEVENT
ORGANIZER;CN=Sandra_Ganser-kontakt@sandraganser.de
DTSTART:20260507T090500
DTEND:20260508T090530
UID:590fe8abe7470ee0bfc9b72cbd613a80
CREATED:20260419T190446
SUMMARY:Gemeinschaftliches Kunstprojekt lädt Bürger zum Mitgestalten ein
DESCRIPTION:Wenn tausende Bl&uuml;ten durch die Friedenskirche schweben
&nbsp;Im Mai entsteht in der Friedenskirche Baesweiler ein besonderes Kunstprojekt: Aus tausenden getrockneten Bl&uuml;ten und Bl&auml;ttern wird eine schwebende Installation geschaffen, die sich vom Eingangsbereich bis &uuml;ber den Altarraum entfalten wird. Die K&uuml;nstlerin Sandra Ganser l&auml;dt Menschen aus der Region ein, selbst Teil dieses Werkes zu werden.
Ein Raum aus Natur und Gemeinschaft
Die Friedenskirche in Baesweiler ist ein hoher, lichtdurchfluteter Raum &ndash; schlicht und offen. Ein Ort, an dem Menschen zusammenkommen: f&uuml;r stille Momente, spirituelle Impulse, Gespr&auml;che, gemeinsames Singen oder Begegnungen im Alltag. Dieser Raum erh&auml;lt nun ein neues Kleid. Eine florale Installation aus tausenden getrockneten Bl&uuml;ten und Bl&auml;ttern wird sich leicht und schwebend durch den Raum entfalten &ndash; vom Eingang bis &uuml;ber den Altar. Das Besondere daran: Das Kunstwerk entsteht nicht allein. Viele H&auml;nde werden daran mitwirken &ndash; Blume f&uuml;r Blume, Blatt f&uuml;r Blatt. Verbunden nur mit feinem Draht entsteht Schritt f&uuml;r Schritt ein Geflecht aus Naturmaterialien, das den Raum verwandelt. &bdquo;Wenn Menschen etwas gemeinsam gestalten, entsteht mehr als ein Kunstwerk&ldquo;, sagt Sandra Ganser. &bdquo;Es entsteht ein Raum, in dem Verbundenheit sp&uuml;rbar wird.&ldquo;
Menschen jeden Alters k&ouml;nnen mitmachen
Das Projekt ist bewusst offen angelegt: Menschen jeden Alters k&ouml;nnen sich beteiligen &ndash; vom Kind bis zur Gro&szlig;mutter. Herkunft, Religion oder k&uuml;nstlerische Erfahrung spielen keine Rolle. W&auml;hrend einer offenen Kreativzeit k&ouml;nnen Interessierte gemeinsam mit der K&uuml;nstlerin die floralen Elemente verbinden. &bdquo;Mich begeistert, dass dieses Projekt so viele Menschen einl&auml;dt, sich einzubringen&ldquo;, sagt Pfarrer Jochen G&uuml;rtler. &bdquo;Die&nbsp;
Materialspenden willkommen
F&uuml;r das Kunstwerk werden ausschlie&szlig;lich getrocknete Naturmaterialien verwendet &ndash;&nbsp; Bl&uuml;ten, Gr&auml;ser und ungef&auml;rbte Federn. Da die Installation einen gro&szlig;en Raum f&uuml;llen wird, sind viele dieser&nbsp;
Naturmaterialien n&ouml;tig. Die K&uuml;nstlerin freut sich daher &uuml;ber Materialspenden aus der Bev&ouml;lkerung, die im&nbsp;
Gemeindeb&uuml;ro der Friedenskirche abgegeben werden k&ouml;nnen.
Kreativzeiten zum Mitmachen
Donnerstag, 7. Mai, 17&ndash;20 Uhr
Freitag, 8. Mai, 12&ndash;16 Uhr
Weitere Termine sind nach Absprache in der Kreativwoche vom 4.- 8.5.2026 m&ouml;glich.
Wer mitgestalten m&ouml;chte, wird gebeten, sich bei der K&uuml;nstlerin anzumelden.
Ort:&nbsp;
Friedenskirche Baesweiler
Otto-Hahn-Stra&szlig;e 1
52499 Baesweiler
Einweihung
Die feierliche Einweihung der Installation findet im Rahmen des Gemeindefestes an Christi Himmelfahrt, 14. Mai, statt.
&Uuml;ber die K&uuml;nstlerin
Sandra Ganser gestaltet k&uuml;nstlerische Erfahrungsr&auml;ume an besonderen Orten. In ihren Arbeiten verbindet sie Naturmaterialien, Raumgestaltung und gemeinschaftliche Prozesse. Ihre Projekte machen Themen wie Wandel, Identit&auml;t und Verbundenheit sinnlich erlebbar.
Das Projekt entsteht in Zusammenarbeit mit der Friedenskirche Baesweiler und dem Rheinischen Verein und wird unterst&uuml;tzt durch die St&auml;dteRegion Aachen.
 Veröffentlicht von  https://www.lebendiges-aachen.de/
LAST-MODIFIED:20260419T190446
END:VEVENT
END:VCALENDAR
