BEGIN:VCALENDAR
PRODID:/modules.php?act=getical&eid=38078&name=Schedule
VERSION:2.0
CALSCALE:GREGORIAN
METHOD:PUBLISH
X-WR-CALNAME:Lebendiges Aachen-Couven Museum im April 2026
X-WR-TIMEZONE:Europe/Berlin
X-WR-CALDESC:Original by https://www.lebendiges-aachen.de/
 Created by mxSchedule 
 Tecmu 2010-2026
BEGIN:VTIMEZONE
TZID:Europe/Berlin
X-LIC-LOCATION:Europe/Berlin
BEGIN:STANDARD
TZOFFSETFROM:+0100
TZOFFSETTO:+0200
TZNAME:CEST
DTSTART:19701025T030000
RRULE:FREQ=YEARLY;BYMONTH=10;BYDAY=-1SU
END:STANDARD
BEGIN:DAYLIGHT
TZOFFSETFROM:+0100
TZOFFSETTO:+0200
TZNAME:CEST
DTSTART:19700329T020000
RRULE:FREQ=YEARLY;BYMONTH=4;BYDAY=1SU
END:DAYLIGHT
END:VTIMEZONE
BEGIN:VEVENT
ORGANIZER;CN=Stadt_Aachen-presse@mail.aachen.de
DTSTART:20260401T190400
DTEND:20260430T190430
UID:580ae1e1eb61aa71c592374cc659095f
CREATED:20260422T090438
SUMMARY:Couven Museum im April 2026
DESCRIPTION:Sonderausstellung

Auf die Spitze getrieben! Kost&uuml;me aus dem Theater Aachen&nbsp;

20.09.2025 &ndash; 12.04.2026

Mit der Ausstellung &bdquo;Auf die Spitze getrieben&quot; plaudert das Couven Museum aus dem N&auml;hk&auml;stchen und &ouml;ffnet den Vorhang f&uuml;r die verborgene Welt der Kost&uuml;me und ihrer Herstellung. Entdecken Sie die faszinierende Welt der Kost&uuml;mkunst des Theater Aachen und die spannenden Geschichten hinter den Kost&uuml;men &ndash; erz&auml;hlt in Kooperation mit der Kost&uuml;m- und Maskenabteilung des Theater Aachen.

Die ausgestellten Objekte offenbaren, wie ein Entwurf zum fertigen Kost&uuml;m wird, was unter dem sichtbaren Kost&uuml;m steckt, welche Accessoires und Preziosen aus Modisterei und Maske die Verwandlung der Darstellenden perfekt machen. Hinter den Kulissen trifft k&uuml;nstlerische T&auml;uschung auf handwerkliches Geschick: Es werden Kost&uuml;mtr&auml;ume entworfen, Taillen abgeschn&uuml;rt oder B&auml;uche aufgepolstert, Filz zu Metall, neu gefertigte Kost&uuml;me zu schmutzigen Lumpen. Die Kost&uuml;mherstellung erfordert ein hohes Ma&szlig; an Kreativit&auml;t, Leidenschaft und nicht zuletzt Kenntnisse in der Modegeschichte. Lernen Sie die beteiligten Personen, die hinter den Kost&uuml;men stehen, und ihre Profession kennen.&nbsp;

&nbsp;

Letzte &Ouml;ffentliche F&uuml;hrung durch die Sonderausstellung

Auf die Spitze getrieben! Kost&uuml;me aus dem Theater Aachen

So 12. April 2026 um 13.30 Uhr

Auf die Spitze getrieben! Kost&uuml;me aus dem Theater Aachen

Mit Lara Witt

Keine Anmeldung erforderlich

&nbsp;

Treffpunkt Museumskasse

Museumseintritt zzgl. F&uuml;hrung 3,00 Euro

&nbsp;

&nbsp;

After-Work-F&uuml;hrung durch die Sonderausstellung

Auf die Spitze getrieben! Kost&uuml;me aus dem Theater Aachen

Mi 01. April 2026 um 18.00 Uhr

Auf die Spitze getrieben! Kost&uuml;me aus dem Theater Aachen

mit Lara Witt

Treffpunkt Museumskasse

Museumseintritt zzgl. F&uuml;hrung 3,00 Euro

&nbsp;

Anmeldung

Museumsdienst Aachen

museumsdienst@mail.aachen.de

Tel.: +49 241 432-4998

Servicezeiten: Di-Fr: 9.00 &ndash; 14.00 Uhr

&nbsp;

&nbsp;

&Ouml;ffentliche F&uuml;hrung durch die Dauerausstellung

Sa 11. April 2026 um 15.00 Uhr

Wei&szlig;es Gold &ndash; vom h&ouml;fischen Luxus zum b&uuml;rgerlichen Stolz

mit Dr. Gudrun Liegl-Raditschnigg

keine Anmeldung erforderlich&nbsp;

Treffpunkt Museumskasse

Museumseintritt zzgl. F&uuml;hrung 3,00 Euro

&nbsp;

&nbsp;

&Ouml;ffentliche Senior*innenf&uuml;hrung durch die Dauerausstellung

Do 09. April 2026 um 11.00 Uhr

Fern&ouml;stliche Motive in der Wohnkultur des 18. und 19. Jahrhunderts

mit Dr. Gudrun Liegl-Raditschnigg

&nbsp;

Anmeldung erforderlich bis Mo 06. April 2026

Treffpunkt Museumskasse

Museumseintritt zzgl. F&uuml;hrung 3,00 Euro

&nbsp;

&nbsp;

&Ouml;ffentliche Sonntagsf&uuml;hrung

So 26. April 2026 um 11:15 Uhr

Eine F&uuml;hrung durch das Haus

mit Georg Tilger

Keine Anmeldung erforderlich

&nbsp;

Treffpunkt Museumskasse

Museumseintritt zzgl. F&uuml;hrung 3,00 Euro

&nbsp;

&nbsp;

GEMEINSAM MORGENS ins MUSEUM

Mit Baby ins Museum

Mi 01. April 2026, 11 Uhr

Frischgebackene Eltern und ihre Babys (0-12 Monate) sind herzlich eingeladen zu einer entspannten F&uuml;hrung unter fachkundiger Leitung. Wir empfehlen, ein Tragetuch oder eine Babytrage mitzubringen.

Mit Dr. Monika Haas

Kosten: 4 &euro; zzgl. Museumseintritt

Treffpunkt Museumskasse

&nbsp;

Anmeldung

Museumsdienst Aachen

museumsdienst@mail.aachen.de

Tel.: +49 241 432-4998

&nbsp;

&nbsp;

&Ouml;ffentliche Kuratorinnenf&uuml;hrung

Auf die Spitze getrieben. Kost&uuml;me aus dem Theater Aachen

Di 07. April 2026, 11 - 12 Uhr

Letzte Gelegenheit zu einer Kuratorinnenf&uuml;hrung durch die Sonderausstellung mit Carmen Roebers

Museumseintritt zzgl. F&uuml;hrung 3,00 Euro

&nbsp;

Anmeldung

Museumsdienst Aachen

museumsdienst@mail.aachen.de

Tel.: +49 241 432-4998

Servicezeiten: Di-Fr: 9.00 &ndash; 14.00 Uhr

&nbsp;

&nbsp;

Familienangebot in den Osterferien

Couven-Museumsrallye

f&uuml;r Familien mit Kindern ab Grundschulalter

Mi 08. April 2026, 11 &ndash; 12 Uhr

R&auml;tselfreudige Familien aufgepasst! Holt Euch unsere Museumsrallye an der Kasse und erkundet gemeinsam die R&auml;ume des Museums! Beim richtigen L&ouml;sungswort erwarten Euch kleine Preise!

Museumseintritt, freier Eintritt bis 21 Jahre

&nbsp;

&nbsp;

Kunst am Mittag &ndash; &Ouml;ffentliche F&uuml;hrung

Mehr als nur Tapeten - Wanddekoration in fr&uuml;herer Zeit

Di 21. April 2026, 12 &ndash; 13 Uhr

Gro&szlig;fl&auml;chige Tapetenbilder zeigen Fluss- und Gebirgslandschaften, exotische und fantastische Gegenden und lassen in Sch&auml;ferszenen den Sehnsuchtsort Arkadien lebendig werden.

Mit Dr. Monika Haas

Museumseintritt zzgl. F&uuml;hrung 3,00 Euro

&nbsp;

Anmeldung

Museumsdienst Aachen

museumsdienst@mail.aachen.de

Tel.: +49 241 432-4998

Servicezeiten: Di-Fr: 9.00 &ndash; 14.00 Uhr

&nbsp;

&nbsp;

&Ouml;ffentliche F&uuml;hrung

S&uuml;&szlig;e Pause mit Kunst, Kaffee und Schokolade

Di 28. April 2026, 12 - 13 Uhr

Tauchen Sie ein in die ganz besondere Atmosph&auml;re des Couven Museums, ein barockes Wohnhaus aus dem 18./19. Jahrhundert im Herzen der Altstadt mit reichen Sammlungssch&auml;tzen. Nach Ihrer Ankunft k&ouml;nnen Sie gem&uuml;tlich im Innenhof des Museums sitzen und Kaffee und Schokoladenspezialit&auml;ten genie&szlig;en. W&auml;hrenddessen erfahren Sie viel Wissenswertes zum Haus, so z.B. was Kaffee und Schokolade mit dem Museum und seiner Geschichte zu tun haben. Gut gest&auml;rkt besichtigen Sie danach ausgew&auml;hlte R&auml;ume des Museums.

Mit Julia-Anna Preisler

Museumseintritt zzgl. F&uuml;hrung 3,00 Euro

&nbsp;

Anmeldung

Museumsdienst Aachen

museumsdienst@mail.aachen.de

Tel.: +49 241 432-4998

&nbsp;

&nbsp;

NEU Stilles Lesen - Lecture silencieuse (dt./frz.)

In Kooperation mit dem Institut fran&ccedil;ais Aachen

Do 23. April 2026, 11:00 &ndash; 13:00 Uhr

&nbsp;

Unter dem Titel &bdquo;Stilles Lesen &ndash; Lecture silencieuse&quot; startet das Couven Museum gemeinsam mit dem Institut fran&ccedil;ais Aachen ein neues Veranstaltungsformat.

Im Mittelpunkt des ersten Termins steht die gemeinsame, konzentrierte Lekt&uuml;re des Romans &bdquo;Le parfum des fleurs la nuit / Der Duft der Blumen bei Nacht&quot; von Le&iuml;la Slimani in kleiner Runde.

Zu Beginn findet eine 30-min&uuml;tige F&uuml;hrung zu drei ausgew&auml;hlten Kunstobjekten des Hauses statt, die inhaltlich auf die jeweilige Lekt&uuml;re abgestimmt ist. Im Anschluss rundet ein moderierter Austausch, begleitet von einer Mitarbeiterin des Institut fran&ccedil;ais Aachen, die Veranstaltung ab und l&auml;dt bei Kaffee zum Gespr&auml;ch &uuml;ber das Gelesene ein.

Die Auftaktveranstaltung findet am 23. April statt und wird ausnahmsweise an einem Donnerstag durchgef&uuml;hrt; weitere Termine folgen im Rahmen von &bdquo;Gemeinsam morgens ins Museum&quot;. Sie steht anl&auml;sslich des Welttages des Buches, dem von der UNESCO initiierten internationalen Aktionstag zur F&ouml;rderung des Lesens.

Mit Yasemin Sezgin und Carmen Roebers

&nbsp;

Die Anmeldung zur Veranstaltung erfolgt &uuml;ber die Website des Institut fran&ccedil;ais Aachen: www.ifaachen.de. Das Buch kann f&uuml;r die Veranstaltung &uuml;ber die Mediathek des Instituts ausgeliehen werden.&nbsp;

Kosten: 6,00 Euro

&nbsp;

Couven Museum vor&uuml;bergehend geschlossen

&nbsp;

Aachen, 13. April 2026 &ndash; Das Couven Museum bleibt von Montag, 13. April, bis einschlie&szlig;lich Freitag, 17. April 2026, vor&uuml;bergehend geschlossen. Grund ist der Abbau der Ausstellung &bdquo;Auf die Spitze getrieben. Kost&uuml;me aus dem Theater Aachen&quot;.

Ab Samstag, 18. April 2026, ist das Museum wieder zu den gewohnten &Ouml;ffnungszeiten f&uuml;r Besucherinnen und Besucher zug&auml;nglich.

&nbsp;

&nbsp;

SERVICE

Couven Museum
H&uuml;hnermarkt 17, 52062 Aachen
Tel.: +49 241 432-4421
info@couven-museum.de

www.couven-museum.de

Station &bdquo;Lebenskultur&quot; der Route Charlemagne

www.route-charlemagne.eu

&nbsp;

Vom Rokoko &uuml;ber den napoleonischen Empirestil bis hin zum Biedermeier &ndash; das Couven Museum pr&auml;sentiert b&uuml;rgerliche Lebensart und Wohnkultur im Herzen Aachens.

&nbsp;

Neue &Ouml;ffnungszeiten!


Di &ndash; Mi 13.00 &ndash; 17.00 Uhr
Do &ndash; So 10.00 &ndash; 17.00 Uhr

Gemeinsam morgens ins Museum &ndash; F&uuml;r gebuchte Gruppen, Schulklassen und bei vorheriger Anmeldung zu &ouml;ffentlichen F&uuml;hrungen und Kursen auch Di &ndash; Mi 08.30 &ndash; 13.00 Uhr ge&ouml;ffnet

&nbsp;

Eintritt
Freier Eintritt f&uuml;r Besucher*innen bis einschl. 21 Jahren innerhalb der Stadt Aachen und der St&auml;dteregion

Erwachsene: 10,00 Euro; erm&auml;&szlig;igt: 6,00 Euro. F&uuml;r Sonderausstellungen k&ouml;nnen andere Preise gelten

&nbsp;

&nbsp;

Museumscard

&nbsp;

Museumscard &bdquo;Six for Six&quot; Eintritt 30,00 Euro / erm&auml;&szlig;igt 18,00 Euro

Museumscard &bdquo;Four for Six&quot; Eintritt 20,00 Euro / erm&auml;&szlig;igt 12,00 Euro

Museumscard &bdquo;Two for Six&quot; Eintritt 10,00 Euro / erm&auml;&szlig;igt 6,00 Euro

&nbsp;

&nbsp;

&nbsp;

Verkehrsanbindung

Bus: nahezu alle Linien, Haltestelle Elisenbrunnen &ndash; weiter zu Fu&szlig; Richtung Markt
Parkhaus: Dom/Jesuitenstra&szlig;e

&nbsp;

&nbsp;

Auskunft und Anmeldung

Museumsp&auml;dagogische Angebote

Kulturbetrieb der Stadt Aachen
Museumsdienst
Verwaltungsgeb&auml;ude Katschhof
Johannes Paul II.-Str. 1, 52062 Aachen

Tel.: +49 241 432-4998
Fax: +49 241 432-4989
museumsdienst@mail.aachen.de

&nbsp;

Barrierefreiheit

Das Couven Museum ist in einem alten Stadthaus untergebracht. Daher ist leider nur ein eingeschr&auml;nkter barrierefreier Zugang zu einigen R&auml;umen im Erdgeschoss m&ouml;glich. Die Ausstellungsr&auml;ume im ersten und zweiten Obergeschoss sind nur &uuml;ber Treppen zug&auml;nglich.

Auf Wunsch werden F&uuml;hrungen f&uuml;r blinde und sehbehinderte G&auml;ste angeboten. Bitte richten Sie Ihre Anfrage dazu an den Museumsdienst.
 Veröffentlicht von  https://www.lebendiges-aachen.de/
LAST-MODIFIED:20260422T090438
END:VEVENT
END:VCALENDAR
