BEGIN:VCALENDAR
PRODID:/modules.php?act=getical&eid=38077&name=Schedule
VERSION:2.0
CALSCALE:GREGORIAN
METHOD:PUBLISH
X-WR-CALNAME:Lebendiges Aachen-Suermondt-Ludwig-Museum im April 2026
X-WR-TIMEZONE:Europe/Berlin
X-WR-CALDESC:Original by https://www.lebendiges-aachen.de/
 Created by mxSchedule 
 Tecmu 2010-2026
BEGIN:VTIMEZONE
TZID:Europe/Berlin
X-LIC-LOCATION:Europe/Berlin
BEGIN:STANDARD
TZOFFSETFROM:+0100
TZOFFSETTO:+0200
TZNAME:CEST
DTSTART:19701025T030000
RRULE:FREQ=YEARLY;BYMONTH=10;BYDAY=-1SU
END:STANDARD
BEGIN:DAYLIGHT
TZOFFSETFROM:+0100
TZOFFSETTO:+0200
TZNAME:CEST
DTSTART:19700329T020000
RRULE:FREQ=YEARLY;BYMONTH=4;BYDAY=1SU
END:DAYLIGHT
END:VTIMEZONE
BEGIN:VEVENT
ORGANIZER;CN=Stadt_Aachen-presse@mail.aachen.de
DTSTART:20260401T190400
DTEND:20260430T190430
UID:d19d7b726a0b1406f0b66a84bc8226e2
CREATED:20260421T140408
SUMMARY:Suermondt-Ludwig-Museum im April 2026
DESCRIPTION:AKTUELLE AUSSTELLUNGEN

Tim Berresheim

Ort. Zeit. Kontinuum.

Bis 13.12.

&bdquo;Ort. Zeit. Kontinuum.&quot; So hei&szlig;t Tim Berresheims erste monumentale 360&deg;-Grad-Wandarbeit, die er eigens f&uuml;r das Suermondt-Ludwig-Museum erstellt hat. Durch die 3D-Brille betrachtet, entfaltet sich ein plastisches Panorama der Aachener Stadthistorie, gespickt mit Anspielungen auf die Kunstgeschichte und auf Pers&ouml;nliches. Da sind der Dom zu sehen, das Grashaus, die antikisierende Fassade des Theaters, die Skulptur &bdquo;Die Sitzende&quot; aus Burtscheid. Michelangelos g&ouml;ttlicher Fingerzeig aus der Sch&ouml;pfungsgeschichte der Sixtinischen Kapelle, der den erwartungsvollen Adam zum Leben erweckt, ist als H&ouml;llensturz interpretiert.&nbsp;

Ein herausragendes Motiv des Wandbildes ist die mythologische Skulptur &sbquo;Apoll und Daphne&#39; des italienischen Bildhauers Filippo Parodi (1630-1702), ein Werk aus der Sammlung des Suermondt-Ludwig-Museums. Die Skulptur ist eine so genannte figura serpentinata, eine Plastik, um die Betrachtende herumlaufen und so das Kunstwerk in G&auml;nze erfassen k&ouml;nnen. Bildhauer*innen seit der Renaissance wollten mit dieser &bdquo;Allansichtigkeit&quot; ihre &Uuml;berlegenheit gegen&uuml;ber der zweidimensionalen Malerei demonstrieren. Berresheims immersive Skulptur vereinigt die Vorteile von Skulptur und Bild: Obwohl auf den ersten Blick &bdquo;Flachware&quot;, kann man sie mit Hilfe der bereitgestellten App komplett umlaufen.&nbsp;

Kuratorin: Sarvenaz Ayooghi&nbsp;

&nbsp;

KOMMENDE AUSSTELLUNGEN

Das Gl&uuml;ck dieser Erde.

D&uuml;rer, Rubens, Goya: Pferde in der Kunst

17.05. &ndash; 23.08.2026

&nbsp;

Das Gl&uuml;ck dieser Erde widmet sich der kulturellen und kunsthistorischen Bedeutung des Pferdes von der Antike bis in die Gegenwart und wird parallel zum &bdquo;TSCHIO&quot; im Mai sowie den Weltmeisterschaften des internationalen Pferdesportverbands FEI im August gezeigt. Anl&auml;sslich dieser internationalen Pferdesportereignisse wird ein Thema aufgegriffen, das eng mit der Identit&auml;t und historischen Entwicklung der Stadt Aachen und des Rheinlands verbunden ist.

Die Ausstellung macht deutlich, wie sehr Pferde seit der Antike das Leben der Menschen gepr&auml;gt haben &ndash; als prestigetr&auml;chtige Begleiter von Herrschern und Adeligen, als unentbehrliche Arbeitskr&auml;fte in Landwirtschaft und Transport oder als Teil von Freizeitkultur und Kindheit.

Ihre inhaltliche Ausrichtung entwickelt die Schau aus der thematischen Anordnung der Exponate, ausgehend von Werken aus der eigenen Sammlung des Suermondt-Ludwig-Museums, die durch ausgew&auml;hlte Leihgaben aus deutschen, belgischen und niederl&auml;ndischen Museen und Privatsammlungen sinnvoll erg&auml;nzt werden.

Auf diese Weise entsteht ein vielseitiger &Uuml;berblick &uuml;ber Pferdedarstellungen von der Antike &uuml;ber Mittelalter und Renaissance bis hin zur Gegenwart. Darunter sind Werke von Albrecht D&uuml;rer, Esaias van de Velde d. &Auml;., Philips Wouwerman, Peter Paul Rubens, Max Klinger, Lovis Corinth, Max Liebermann oder Francisco de Goya vertreten.&nbsp;

&nbsp;

&nbsp;

DIE KUNSTPAUSE

Ein Werk in 15 Minuten

Dienstags von 13.00 &ndash; 13.15 Uhr

Lust auf Abwechslung in der Mittagspause und neue Bekanntschaften? Dann machen Sie doch eine Kunstpause im Suermondt-Ludwig-Museum!

Dort erwartet Sie ein Speed-Dating der besonderen Art: In nur 15 Minuten lernen Sie ein Meisterwerk der Kunstgeschichte kennen&nbsp;

&nbsp;

Di 07.04., 13.00 &ndash; 13.15 Uhr

Findet nicht statt in den Osterferien!&nbsp;

&nbsp;

Di 14.04., 13.00 &ndash; 13.15 Uhr

Gillis Coignet d. J. (1586 &ndash; nach 1650)

Der S&uuml;ndenfall

&Ouml;l auf Kupfer

&nbsp;

Ein verbotener Snack und jede Menge tierische Zeugen: In dieser Kunstpause nehmen wir den S&uuml;ndenfall unter die Lupe mit dem ber&uuml;hmtesten P&auml;rchen aus der Bibel: Adam und Eva. Vorlage f&uuml;r dieses Bild auf Kupfer war ein ikonischer Stich von Albrecht D&uuml;rer, der hier neu inszeniert wird.

Aber das Gem&auml;lde zeigt weit mehr als nur die bekannteste Szene der Menschheitsgeschichte. Zwischen Baum und Schlange, Papagei und Hirsch entfaltet sich ein vielschichtiges Geflecht aus tierischen Sinnbildern, deren Bildsprache entschl&uuml;sselt wird.&nbsp;&nbsp;

Mit Sarvenaz Ayooghi

&nbsp;

Di 21.04., 13.00 &ndash; 13.15 Uhr

Der Lobkowitzer Kaiserpokal

Ein einzigartiges Meisterwerk: Der Lobkowitzer Kaiserpokal

Der Lobkowitzer Kaiserpokal geh&ouml;rt zu den bedeutendsten und eindrucksvollsten Werken barocker Schatzkunst im Suermondt-Ludwig-Museum. Das um 1650 in Prag entstandene Prunkgef&auml;&szlig; wurde von Kaiser Ferdinand III. in Auftrag gegeben und einem Mitglied der b&ouml;hmischen Adelsfamilie Lobkowitz gewidmet. Seit 1961 ist der Kaiserpokal Teil der Sammlung Ludwig und wird heute als Dauerleihgabe der Peter und Irene Ludwig Stiftung in der &bdquo;Kunst- und Wunderkammer&quot; des Museums pr&auml;sentiert.

Gefertigt aus getriebenem Gold und aufwendig verziert, vereint der Pokal h&ouml;chste Goldschmiedekunst mit meisterlicher Steinschnittarbeit der Prager Hofwerkst&auml;tten. Sein au&szlig;ergew&ouml;hnlich komplexes Bildprogramm macht ihn zu weit mehr als einem repr&auml;sentativen Schaust&uuml;ck. Reichsadler und imperiale Insignien, Allegorien der Tugenden, Darstellungen der vier Weltreiche des Altertums sowie 144 fein gearbeitete Kaiserportr&auml;ts verdichten sich zu einem politischen Manifest kaiserlicher Macht und Legitimation.

Die Kunstpause bietet Gelegenheit, dieses einzigartige Kunstkammerst&uuml;ck als Sinnbild fr&uuml;hneuzeitlicher Herrschaftsrepr&auml;sentation zu entdecken und seine k&uuml;nstlerische wie ideologische Dimension zu erschlie&szlig;en.

Mit Karoline Bauer&nbsp;
&nbsp;

Di 28.04., 13.00 &ndash; 13.15 Uhr

Director&#39;s Choice

Seien Sie gespannt welches Werk Direktor Till-Holger Borchert in dieser Kunstpause vorstellen wird!

Mit Till-Holger Borchert

&nbsp;

&Ouml;ffentliche Themenf&uuml;hrungen / Dauerausstellung

Die Teilnehmer*innenzahl ist begrenzt, Reservierungen sind nicht m&ouml;glich. Teilnahmetickets sind ab 30 Minuten vor Beginn der F&uuml;hrung an der Kasse erh&auml;ltlich.

Treffpunkt Museumskasse

Museumseintritt zzgl. F&uuml;hrung 3,00 Euro

F&uuml;r alle bis einschl. 21 J. innerhalb Stadt Aachen und St&auml;dteregion Eintritt und F&uuml;hrung frei.

&nbsp;

So, 05.04., 12.00 Uhr

&bdquo;Die Renaissance - Ein neues Weltbild&quot;

Mit Dr. Josef G&uuml;lpers

&nbsp;

So, 12.04., 12.00 Uhr

&bdquo;Die Villa Cassalette &ndash; Vom Wohnpalast zum Kunstpalast&quot;

Mit Julia-Anna Preisler

&nbsp;

So, 19.04., 12.00 Uhr

&bdquo;Sinn und Sinnlichkeit &ndash; niederl&auml;ndische Stillleben des 17. Jahrhunderts&quot;

Mit Michaela Giesen

&nbsp;

So, 26.04., 12.00 Uhr

&bdquo;Galante Feste und Merry Company&quot;

Mit Michaela Giesen

&nbsp;

&Ouml;ffentliche Senior*innenf&uuml;hrung / Dauerausstellung

&nbsp;

Do 16.04., 11.00 Uhr

&bdquo;Bildwelten des Barock&quot;

Mit Dr. Gudrun Liegl-Raditschnigg

Museumseintritt zzgl. F&uuml;hrung 3,00 Euro

&nbsp;

Anmeldung

Museumsdienst Aachen

museumsdienst@mail.aachen.de

Tel.: +49 241 432-4998

Servicezeiten: Di &ndash; Fr 9.00 &ndash; 14.00 Uhr

&nbsp;

Suermondt-Kunst-Treff

Do 30.04., 14.30 &ndash; 16.30 Uhr

&bdquo;Der Zeitbegriff in der Kunst&quot;

&nbsp;

Sind Sie neugierig auf Kunst-Entdeckungen und haben Sie Lust, andere kunstinteressierte Menschen kennenzulernen und mit ihnen ins Gespr&auml;ch zu kommen? Dann kommen Sie ins Suermondt-Ludwig-Museum! Unter fachkundiger F&uuml;hrung werden ausgew&auml;hlte Kunstwerke aus dem reichen Sammlungsschatz gemeinsam betrachtet, danach gibt es bei Kaffee und Kuchen im Caf&eacute; Wunderkammer Zeit f&uuml;r Austausch und vertiefende Gespr&auml;che.

Wem gef&auml;llt was am besten? Und warum ist das so? Welche Wirkung haben die Werke und welche Geschichten verbergen sich dahinter? Das Suermondt-Ludwig-Museum beherbergt eine faszinierende Sammlung mit Werken von der Antike bis in die Gegenwart. Kommen Sie mit auf Entdeckungsreise!

Mit Viola Burghardt

Kosten: 10 &euro; inkl. Museumseintritt

&nbsp;

Anmeldung

Museumsdienst Aachen

museumsdienst@mail.aachen.de

Tel.: +49 241 432-4998

Servicezeiten: Di &ndash; Fr 9.00 &ndash; 14.00 Uhr

&nbsp;

F&uuml;hrung mit Petit Fours

Fr 17.04., 15.00 &ndash; 16.00 Uhr

&nbsp;

Im Suermondt-Ludwig-Museum, dem &bdquo;Salon&quot; der Aachener, werden in einer Kurzf&uuml;hrung von rund 30 Minuten ausgew&auml;hlte Kunstwerke aus der umfangreichen Sammlung pr&auml;sentiert. Im Anschluss gibt es im gem&uuml;tlichen Ambiente des Caf&eacute; Wunderkammer bei Petit Fours und Kaffee die Gelegenheit zum Austausch.

Preis: 15 &euro; inkl. Museumseintritt

&nbsp;

Anmeldung

Museumsdienst Aachen

museumsdienst@mail.aachen.de

Tel.: +49 241 432-4998

Servicezeiten: Di &ndash; Fr 9.00 &ndash; 14.00 Uhr

&nbsp;

Stickwerkstatt Caf&eacute; Wunderkammer&nbsp;&nbsp;

f&uuml;r Erwachsene, auch f&uuml;r Anf&auml;nger*innen, kostenlos

Fr 17.04., 10.00 &ndash; 13.00 Uhr

&nbsp;

Einmal monatlich freitags laden die Frauen der Kunstwerkstatt Spectrum, die das neue Caf&eacute; im Suermondt-Ludwig-Museum mitgestaltet haben, mit der K&uuml;nstlerin Vera Sous (rhein-verein.de) zum gemeinsamen Sticken und der Vollendung des gro&szlig;en Blumenteppichs ein. Bei Kaffee und Tee lassen sich in sch&ouml;ner Atmosph&auml;re handwerkliche Erfahrungen austauschen.

&nbsp;

Alle Materialien sind vorhanden, auch f&uuml;r Anf&auml;ngerInnen geeignet.

Dauer: 180 Minuten

Leitung: Vera Sous, Kunstwerkstatt Spectrum

Ohne Anmeldung

&nbsp;

Familienangebot f&uuml;r kleine und gro&szlig;e K&uuml;nstler*innen

So 19.04., 14.00 &ndash; 16.00 Uhr

&nbsp;

An jedem dritten Sonntag im Monat findet ein Workshop f&uuml;r Familien statt. Nach der gemeinsamen Betrachtung ausgew&auml;hlter Kunstwerke werden in der Werkstatt verschiedene Techniken und Materialien zur Gestaltung eigener Ideen erprobt.

Mit Kathrin Philipp-Jeiter

Kosten: Kinder 4&euro;, Erwachsene 8&euro; zzgl. Museumseintritt

&nbsp;

Anmeldung

Museumsdienst Aachen

museumsdienst@mail.aachen.de

Tel.: +49 241 432-4998

Servicezeiten: Di &ndash; Fr 9.00 &ndash; 14.00 Uhr

&nbsp;

Suermondt-Museumsclub f&uuml;r Kinder ab 6 Jahren

NEUER KURS: Di 14.04., 21.04., 28.04., 050.05., 12.05., 19.05., 02.06., 09.06., 16.06., 23.06., 30.06., 07.07., 14.07.

jeweils 15.15 &ndash; 16.45 Uhr

Einmal w&ouml;chentlich treffen sich die Kinder im Museum. Gemeinsam erkunden sie die Ausstellungen, lernen ber&uuml;hmte Werke der Kunstgeschichte von der Antike bis in die Gegenwart kennen und werden in der Malschule selbst k&uuml;nstlerisch aktiv. Dabei steht das Ausprobieren von unterschiedlichen Ideen und Techniken im Mittelpunkt. Das Angebot in der Kunstwerkstatt richtet sich ausschlie&szlig;lich an Kinder. Eltern haben die M&ouml;glichkeit, im Foyer oder im Caf&eacute; Wunderkammer auf ihre Kinder zu warten.

W&ouml;chentlicher Workshop mit Ute K&uuml;ttner, Grafik-Designerin, Kunstp&auml;dagogin f&uuml;r die kulturelle Bildung

Kosten: 75 &euro; (Geschwisterkinder: 60 &euro;) f&uuml;r 13 Termine bis zu den Sommerferien

Ein Einstieg ist jederzeit m&ouml;glich!

&nbsp;

Anmeldung

Museumsdienst Aachen

museumsdienst@mail.aachen.de

Tel.: +49 241 432-4998

Servicezeiten: Di &ndash; Fr 9.00 &ndash; 14.00 Uhr

&nbsp;

Osterferienangebot

&nbsp;

Expedition zu au&szlig;ergew&ouml;hnlichen Tieren

Mi 08.04., 10.15 &ndash; 13.00 Uhr / eint&auml;giger Ferienworkshop

F&uuml;r Kinder ab 7 Jahren

&nbsp;

Im Suermondt-Ludwig-Museum sind au&szlig;ergew&ouml;hnliche Tiere zu Hause, die wir in Gem&auml;lden, Skulpturen und Objekten entdecken k&ouml;nnen. Diese betrachten wir gemeinsam und gestalten in der Kunstwerkstatt selbst Tiere, die noch nie gesehen wurden!

Mit Ute K&uuml;ttner, Grafik-Designerin, Kunstp&auml;dagogin f&uuml;r die kulturelle Bildung

Kosten: 12&euro;

&nbsp;

Anmeldung

Museumsdienst Aachen

museumsdienst@mail.aachen.de

Tel.: +49 241 432-4998

Servicezeiten: Di &ndash; Fr 9.00 &ndash; 14.00 Uhr

&nbsp;

&nbsp;

GEMEINSAM MORGENS INS MUSEUM

&nbsp;

Kunst am Mittag &ndash; &Ouml;ffentliche F&uuml;hrung
Di 07.04.2026, 12 &ndash; 13 Uhr

&bdquo;Blaue Tomaten und gr&uuml;ne Gesichter &ndash; Impressionismus und Expressionismus&quot;

Mit Dr. Josef G&uuml;lpers
Kosten: 3 &euro; zzgl. Museumseintritt

&nbsp;

Anmeldung

Museumsdienst Aachen

museumsdienst@mail.aachen.de

Tel.: +49 241 432-4998

Servicezeiten: Di &ndash; Fr 9.00 &ndash; 14.00 Uhr

&nbsp;

&nbsp;

Workshop &bdquo;Passepartout&quot;

Di 14.04., 10.30 &ndash; 12.00 Uhr

Passepartouts sch&uuml;tzen und konservieren Kunstwerke, indem sie Abstand zwischen Verglasung und Objekt schaffen und so beispielsweise vor Ausd&uuml;nstungen aus dem Rahmenholz sch&uuml;tzen. Zugleich unterst&uuml;tzen sie eine konzentrierte Betrachtung des Kunstwerks, da sie vom Rahmen ablenkende Elemente reduzieren und sind fester Bestandteil einer professionellen Pr&auml;sentation.

Nach der gemeinsamen Betrachtung ausgew&auml;hlter Werke aus der Sammlung erhalten die Teilnehmenden eine Einf&uuml;hrung in die Funktion von Passepartouts sowie in die verwendeten Materialien. Unter fachkundiger Anleitung lernen sie das Zuschneiden und Einpassen und fertigen ein eigenes Passepartout an, das sie mit nach Hause nehmen k&ouml;nnen.

Eigene Grafiken, Fotos oder Gem&auml;lde (max. DIN A4) k&ouml;nnen gerne mitgebracht werden!

Mit: Costa Leventakos, Ausstellungskoordinator und Depotverwaltung

Teilnehmerzahl: max. 8 Personen

Kosten: 12&euro; inkl. Material zzgl. Museumseintritt

&nbsp;

Anmeldung

Museumsdienst Aachen

museumsdienst@mail.aachen.de

Tel.: +49 241 432-4998

Servicezeiten: Di &ndash; Fr 9.00 &ndash; 14.00 Uhr

&nbsp;

Kunst, Croissants und Konfit&uuml;re

Mi 15.04., 10.00 &ndash; 12.00 Uhr

&nbsp;

&bdquo;Neue Sachlichkeit&quot;

Das Suermondt-Ludwig-Museum beherbergt eine faszinierende Sammlung mit Werken von der Antike bis in die Gegenwart. Kommen Sie mit auf Entdeckungsreise! Gestartet wird mit Kaffee, Croissants und Konfit&uuml;re im Caf&eacute; Wunderkammer, danach werden ausgew&auml;hlte Kunstwerke vorgestellt und gemeinsam besprochen. Keine Vorkenntnisse erforderlich!

Mit Irene Voss-Sch&auml;fer

Kosten: 12 Euro inkl. Museumseintritt

&nbsp;

Anmeldung

Museumsdienst Aachen

museumsdienst@mail.aachen.de

Tel.: +49 241 432-4998

Servicezeiten: Di &ndash; Fr 9.00 &ndash; 14.00 Uhr

&nbsp;

&Ouml;ffentliche F&uuml;hrung durch das Depot

Mi 15.04., 12.00 &ndash; 13.00 Uhr

&nbsp;

Was verbirgt sich hinter den Kulissen des Suermondt-Ludwig-Museums? Bei dieser besonderen F&uuml;hrung &ouml;ffnen wir die T&uuml;ren zu unserem Depot und gew&auml;hren Ihnen Einblicke in einen sonst unzug&auml;nglichen Bereich des Museums. Entdecken Sie verborgene Sch&auml;tze aus der Sammlung, darunter auch besondere Werke, die einst von Aachener B&uuml;rgerinnen und B&uuml;rgern gestiftet, vererbt oder dem Museum anvertraut wurden, und erfahren Sie mehr &uuml;ber die spannenden Geschichten hinter den Objekten. Ein Blick in das Depot zeigt, wie vielf&auml;ltig die Sammlung des Museums ist und wie eng sie mit der Stadtgesellschaft verbunden ist.

&nbsp;

Mit Stellv. Direktor und Sammlungsleiter Michael Rief

Begrenzte Teilnehmer*innenzahl!

Kosten: 3 &euro; zzgl. Museumseintritt

Treffpunkt Museumskasse

&nbsp;

Anmeldung

Museumsdienst Aachen

museumsdienst@mail.aachen.de

Tel.: +49 241 432-4998

Servicezeiten: Di &ndash; Fr 9.00 &ndash; 14.00 Uhr

&nbsp;

Interkultureller Kunstworkshop

Di 21.04., 10.15 &ndash; 12.15 Uhr

&nbsp;

Einmal im Monat bieten das Suermondt Ludwig Museum gemeinsam mit dem Referat f&uuml;r Integration und Migration des Caritas Verbandes Aachen interkulturelle Kunstworkshops an.

Nach einer gemeinsamen Betrachtung ausgew&auml;hlter Kunstwerke der Sammlung werden die Teilnehmenden in der praktischen Arbeit kunsttherapeutisch begleitet, um ihre Gedanken und Gef&uuml;hle in Bilder und Formen zu fassen. Es wird ein sicherer Raum geschaffen, in dem jede (r) kreativ t&auml;tig werden kann, unabh&auml;ngig von Vorkenntnissen.

Der Workshop ist offen f&uuml;r alle Interessierten und bietet eine einzigartige Gelegenheit, sich mit Kunst auf eine tiefere, emotionale Weise auseinanderzusetzen. Dabei steht nicht das Endergebnis, sondern der kreative Prozess im Vordergrund.

&nbsp;

Kostenfreies Angebot, Anmeldung erforderlich

&nbsp;

Information und Anmeldung

Integrationsagentur des Regionalen Caritasverbands Aachen

Geraldine Wronski

E-Mail: g.wronski@caritas-aachen.de

Telefon: 0241 / 94927285

&nbsp;

Kunst am Mittag &ndash; &Ouml;ffentliche F&uuml;hrung
Mi 22.04., 11.00 &ndash; 12.00 Uhr
Sehen und Staunen: Die Kunst und Wunderkammer im Suermondt-Ludwig-Museum
Mit Karl-Heinz Jeiter
Kosten: 3 &euro; zzgl. Museumseintritt

Anmeldung

Museumsdienst Aachen

museumsdienst@mail.aachen.de

Tel.: +49 241 432-4998

Servicezeiten: Di &ndash; Fr 9.00 &ndash; 14.00 Uhr

&nbsp;

Kunst am Mittag &ndash; &Ouml;ffentliche F&uuml;hrung

Di 28.04., 12.00 Uhr

Kunst tut gut! F&uuml;hrung f&uuml;r Reisebegeisterte

Reisen fasziniert und bildet, bietet Erholung und Entspannung &ndash; heute nicht anders als fr&uuml;her. Doch wohin reiste man in vergangenen Jahrhunderten? Und aus welchen Gr&uuml;nden? Die F&uuml;hrung beginnt mit einem Ausflug in die niederl&auml;ndische Kunst des 15. Jahrhundert und Darstellungen von K&uuml;sten, idyllischen Flusslandschaften und H&auml;fen. Weiter geht es zu mond&auml;nen Str&auml;nden an der belgischen K&uuml;ste des 19. Jahrhundert, Gem&auml;lde mit romantischen Italienreisen und der Burgenromantik der Eifel runden die Reiseimpressionen ab.

Kosten: 3&euro; zzgl. Museumseintritt

&nbsp;

Anmeldung

Museumsdienst Aachen

museumsdienst@mail.aachen.de

Tel.: +49 241 432-4998

Servicezeiten: Di &ndash; Fr 9.00 &ndash; 14.00 Uhr

&nbsp;

Kunst am Mittag &ndash; &Ouml;ffentliche F&uuml;hrung
Mi 29.04., 11.00 &ndash; 12.00 Uhr

F&uuml;hrung &bdquo;Tim Berresheim. Ort. Zeit. Kontinuum&quot;
Mit Regina Herdt
Kosten: 3 &euro; zzgl. Museumseintritt
Treffpunkt Museumskasse

&nbsp;

Anmeldung

Museumsdienst Aachen

museumsdienst@mail.aachen.de

Tel.: +49 241 432-4998

Servicezeiten: Di &ndash; Fr 9.00 &ndash; 14.00 Uhr&nbsp;
 Veröffentlicht von  https://www.lebendiges-aachen.de/
LAST-MODIFIED:20260421T140408
END:VEVENT
END:VCALENDAR
