BEGIN:VCALENDAR
PRODID:/modules.php?act=getical&eid=38076&name=Schedule
VERSION:2.0
CALSCALE:GREGORIAN
METHOD:PUBLISH
X-WR-CALNAME:Lebendiges Aachen-Das Internationale Zeitungsmuseum Aachen im April 2026
X-WR-TIMEZONE:Europe/Berlin
X-WR-CALDESC:Original by https://www.lebendiges-aachen.de/
 Created by mxSchedule 
 Tecmu 2010-2026
BEGIN:VTIMEZONE
TZID:Europe/Berlin
X-LIC-LOCATION:Europe/Berlin
BEGIN:STANDARD
TZOFFSETFROM:+0100
TZOFFSETTO:+0200
TZNAME:CEST
DTSTART:19701025T030000
RRULE:FREQ=YEARLY;BYMONTH=10;BYDAY=-1SU
END:STANDARD
BEGIN:DAYLIGHT
TZOFFSETFROM:+0100
TZOFFSETTO:+0200
TZNAME:CEST
DTSTART:19700329T020000
RRULE:FREQ=YEARLY;BYMONTH=4;BYDAY=1SU
END:DAYLIGHT
END:VTIMEZONE
BEGIN:VEVENT
ORGANIZER;CN=Stadt_Aachen-presse@mail.aachen.de
DTSTART:20260401T190400
DTEND:20260430T190430
UID:2524cb515798135f24d5f064bb426b91
CREATED:20260422T090437
SUMMARY:Das Internationale Zeitungsmuseum Aachen im April 2026
DESCRIPTION:&Ouml;ffentliche Sonntags-F&uuml;hrung / Dauerausstellung

Museumseintritt / F&uuml;hrung 3,00 Euro

Treffpunkt Museumskasse

So 12.04., 14.00 Uhr

&quot;Wie Medien unsere Welt ver&auml;ndern&quot;

mit Lara Witt&nbsp;

&nbsp;

Erz&auml;hlcaf&eacute; f&uuml;r Senior*innen

Fr 17.04., 10.30 &ndash; 12.30 Uhr

Eselsbr&uuml;cken

Schon zu Schulzeiten haben wir versucht, uns Dinge und Begriffe anhand von &bdquo;Eselsbr&uuml;cken&quot; zu merken. Sie sind oft witzig und arbeiten mit Bildern, beides erleichtert das Behalten, vor allem von schwierigen Dingen.

Welche Eselsbr&uuml;cken sind Ihnen bekannt? Nutzen Sie heute noch Eselsbr&uuml;cken?

&nbsp;

Leitung: Hildegard van de Braak

Kosten: 6,00 Euro / erm&auml;&szlig;igt: 4,00 Euro

&nbsp;

Anmeldung:

Museumsdienst der Stadt Aachen
Tel.: +49 241 432-4998
museumsdienst@mail.aachen.de

Servicezeiten: Di &ndash; Fr 9.00 &ndash; 14.00 Uhr

&nbsp;

&nbsp;

Fr 10.04. /17.04., 11.00 &ndash; 12.30 Uhr

Zur Debatte. Forum f&uuml;r politische Meinung

Caf&eacute; des Internationalen Zeitungsmuseums

Meinungsfreiheit ist die Grundlage der Demokratie. Aber wo gibt es heute noch M&ouml;glichkeiten, die eigene Meinung zu entwickeln und auszutauschen? Daf&uuml;r braucht es Begegnungs- und Debattenr&auml;ume, die die Vielfalt der verschiedenen Ansichten repr&auml;sentieren und miteinander ins Gespr&auml;ch bringen. Diese Reihe im IZM bietet einen solchen Raum, indem auf der Grundlage von Zeitungen und anderen Nachrichten, politische Debatten begleitet und gemeinsam gef&uuml;hrt werden. Das Ziel ist, die eigene Meinung kennenzulernen und deren &Uuml;berzeugungskraft im Gespr&auml;ch mit anderen zu erproben.

Caner Dogan und Dr. David Terwiel sind wissenschaftliche Mitarbeiter am Institut f&uuml;r Politische Wissenschaft und Mitglieder des Aktivit&auml;tsfelds &bdquo;Wissenschaft und Demokratie&quot; am Human Technology Center der RWTH Aachen University.

Eine Kooperation mit der VHS Aachen

Kurs Nr. 261-10804

kostenfrei

&nbsp;

So 19.4., 10.00 &ndash; 16.00 Uhr&nbsp;

Geschichte der Zeitung

Studienfahrt

Heute gehen Nachrichten in Sekundenschnelle digital um die Welt. Fr&uuml;her reisten Nachrichten nicht schneller als ihre &Uuml;berbringer und waren auch nur f&uuml;r wenige Eingeweihte bestimmt. Dazwischen liegt eine lange Geschichte, die besonders mit einem Material zu tun hat: dem Papier. Papier in g&uuml;nstiger Herstellung, dazu Satz- und Drucktechniken, die es erm&ouml;glichten, schnell und in gro&szlig;er St&uuml;ckmenge zu produzieren, waren Voraussetzungen f&uuml;r die gedruckte Tageszeitung, die im 19. Jahrhundert zum Leitmedium avancierte.

Auf den Spuren der Zeitung geht es zun&auml;chst ins Papiermuseum D&uuml;ren, um den Rohstoff von der Faser bis zur B&uuml;tte kennenzulernen, auch ganz praktisch bei einem kurzen Workshop zum Papiersch&ouml;pfen. Am Nachmittag geht es im Internationalen Zeitungsmuseum in Aachen weiter.

Andreas D&uuml;spohl, Historiker, ist Leiter des lnternationalen Zeitungsmuseums der Stadt Aachen.

Entgelt inklusive Busfahrt, Eintritt, F&uuml;hrungen und Begleitung.

Abfahrt 9:40 Uhr am Busparkplatz Friedhof H&uuml;ls

Abfahrt 10:00 Uhr Peterskirchhof

Anmeldung &uuml;ber die VHS Aachen: Kurs Nr. 261-10218

Anmeldung /Storno bis 2. April

Kosten: 49,- &euro;/k.E.&nbsp;

&nbsp;

SERVICE:&nbsp;

Internationales Zeitungsmuseum
Pontstra&szlig;e 13
52062 Aachen
Germany

Tel.: +49 241 432 49 10
Fax: +49 241 409 06 56
E-Mail: izm@mail.aachen.de

&nbsp;

ZEIT(UNGS)GESCHICHTE WELTWEIT
Das Internationale Zeitungsmuseum ist eine weltweit anerkannte und bedeutende Gr&ouml;&szlig;e im Presse- und Zeitungswesen. Die 1886 gegr&uuml;ndete Sammlung umfasst inzwischen gut 300.000 Exemplare, vorwiegend Erst-, Letzt- und Jubil&auml;umsausgaben aus aller Welt. Das Museum bietet eine aktuelle und aufschlussreiche Auseinandersetzung mit wesentlichen Aspekten der internationalen Medienwelt.

&nbsp;

&Ouml;ffnungszeiten
Di &ndash; So und an Feiertagen 10.00 &ndash; 17.00 Uhr; Mo geschlossen

Bitte informieren Sie sich vorher auf unserer Homepage:

www.izm.de

&nbsp;

Eintritt
Freier Eintritt f&uuml;r Besucher*innen bis einschlie&szlig;lich 21 Jahren innerhalb Stadt Aachen und St&auml;dteRegion

Erwachsene: 10,00 Euro; erm&auml;&szlig;igt: 6,00 Euro. F&uuml;r Sonderausstellungen k&ouml;nnen andere Preise gelten.

&nbsp;

Museumscard &bdquo;6 for 6&quot;

(jeweils ein Eintritt in f&uuml;nf Museen plus Rathaus / sechs Monate lang) f&uuml;r 30,00/18,00 Euro

&nbsp;

Verkehrsanbindung
Bus: von Hbf. Aachen alle Linien Richtung Bushof/Innenstadt zur Haltestelle Elisenbrunnen &ndash; weiter zu Fu&szlig; &gt; Dom/M&uuml;nsterplatz &gt; Rathaus/Markt &gt; Pontstra&szlig;e; Linie 4 bis Eilfschornsteinstra&szlig;e
Parkhaus: Dom / Jesuitenstra&szlig;e

&nbsp;

Barrierefreiheit

Im Museum steht ein Aufzug zur Verf&uuml;gung, der den Wechselausstellungsraum sowie Kasse, Shop und Toilettenanlagen im Erdgeschoss und die Daueraus&shy;stellung im Obergeschoss f&uuml;r jeden erreichbar macht. Es steht eine barrierefreie Toilette zur Verf&uuml;gung. F&uuml;r Menschen mit Sehbehinderung sind in jedem Raum der Dauerausstellung Infopoints mit Audioguide installiert.
 Veröffentlicht von  https://www.lebendiges-aachen.de/
LAST-MODIFIED:20260422T090437
END:VEVENT
END:VCALENDAR
