BEGIN:VCALENDAR
PRODID:/modules.php?act=getical&eid=38075&name=Schedule
VERSION:2.0
CALSCALE:GREGORIAN
METHOD:PUBLISH
X-WR-CALNAME:Lebendiges Aachen-Grashaus – Station „Europa" der Route Charlemagne im April 2026
X-WR-TIMEZONE:Europe/Berlin
X-WR-CALDESC:Original by https://www.lebendiges-aachen.de/
 Created by mxSchedule 
 Tecmu 2010-2026
BEGIN:VTIMEZONE
TZID:Europe/Berlin
X-LIC-LOCATION:Europe/Berlin
BEGIN:STANDARD
TZOFFSETFROM:+0100
TZOFFSETTO:+0200
TZNAME:CEST
DTSTART:19701025T030000
RRULE:FREQ=YEARLY;BYMONTH=10;BYDAY=-1SU
END:STANDARD
BEGIN:DAYLIGHT
TZOFFSETFROM:+0100
TZOFFSETTO:+0200
TZNAME:CEST
DTSTART:19700329T020000
RRULE:FREQ=YEARLY;BYMONTH=4;BYDAY=1SU
END:DAYLIGHT
END:VTIMEZONE
BEGIN:VEVENT
ORGANIZER;CN=Stadt_Aachen-presse@mail.aachen.de
DTSTART:20260401T190400
DTEND:20260430T190430
UID:ec3c6b32c193d2e91b1590c7e113f19b
CREATED:20260422T040406
SUMMARY:Grashaus – Station „Europa" der Route Charlemagne im April 2026
DESCRIPTION:Grashaus &ndash; Station &bdquo;Europa&quot; der Route Charlemagne im April 2026

&Ouml;ffentliche F&uuml;hrung

Sa 04.04., 15.00 Uhr

&bdquo;Das Grashaus &ndash; Im Wandel der Zeiten&quot;

An jedem 1. Samstag im Monat!

Treffpunkt: Museumskasse des Centre Charlemagne, Katschhof 1, 52062 Aachen

Kein Eintritt / F&uuml;hrung 3,00 Euro

Da die Teilnehmerzahl begrenzt ist, bitten wir um Anmeldung telefonisch unter Tel.: +49 241 432-4998 oder an museumsdienst@mail.aachen.de


Europa am Dienstag

Di 21.04., 19.00 &ndash; 20.30 Uhr im Grashaus und online

Wohin steuert Europa?

Herausforderungen und Visionen f&uuml;r die Zukunft der EU

Jean-Marie Magro, ARD-Korrespondent f&uuml;r die europ&auml;ischen Institutionen, die NATO sowie die Benelux-Staaten.

&nbsp;

Klimakrise, geopolitische Spannungen, Migration, Sicherheit &ndash; die Europ&auml;ische Union steht vor einer Vielzahl globaler Herausforderungen. Gleichzeitig haben alte und neue Mitgliedstaaten unterschiedliche Vorstellungen davon, wie Europas Zukunft aussehen soll. Soll die EU sich weiter ausdehnen oder ihre Strukturen vertiefen &ndash; vielleicht sogar hin zu einer europ&auml;ischen Verfassung?

Was h&auml;lt Europa heute zusammen &ndash; und was treibt es auseinander? Welches Selbstverst&auml;ndnis soll Europa in den kommenden Jahrzehnten tragen?

Bei &#39;Europa am Dienstag&#39; werden wir gemeinsam mit dem Experten Jean-Marie Magro diskutieren, welche Wege die EU einschlagen kann und welche Vision sie braucht, um den globalen Wandel aktiv zu gestalten.

Fragen aus dem Publikum sind willkommen. Die Moderation &uuml;bernimmt Eva Onkels. Sie studierte Literatur- und Politikwissenschaft an der RWTH Aachen und war von 2015 bis 2019 Assistenzkraft bei EUROPE DIRECT Aachen. Aktuell ist sie am Forschungszentrum J&uuml;lich besch&auml;ftigt.

&nbsp;

Bei dieser Ausgabe von &#39;Europa am Dienstag&#39; ist das Deutsch-Franz&ouml;sische Kulturinstitut Aachen / Institut fran&ccedil;ais Veranstaltungspartner.

&nbsp;

Infos und kostenlose Anmeldung: https://ogy.de/Europa-2026

&nbsp;

F&uuml;hrungen f&uuml;r Privatgruppen

Wir bieten deutschsprachige F&uuml;hrungen an zur Baugeschichte, zum Umbau und zur neuen Nutzung des Grashauses.

&nbsp;

Anmeldung &amp; Buchung von Programmen f&uuml;r Schulklassen und Jugendgruppen sowie f&uuml;r bauhistorische F&uuml;hrungen:

Tel.: +49 241 432-4998

Fax: +49 241 432-4989

museumsdienst@mail.aachen.de

Servicezeiten: Di - Fr: 9.00 - 14.00 Uhr

&nbsp;

SERVICE:

GRASHAUS

Fischmarkt 3, 52062 Aachen

Tel.: +49 241 432-4956

(Sekretariat Route Charlemagne)

route-charlemagne@mail.aachen.de

www.route-charlemagne.eu

www.grashaus-aachen.eu

&nbsp;

Das Grashaus am Fischmarkt ist die Station &bdquo;Europa&quot; der Route Charlemagne. Als eines der &auml;ltesten Geb&auml;ude Aachens, als erstes Rathaus der Stadt und nach mehr als einem Jahrhundert Nutzung als Stadtarchiv ist es nun zu einem au&szlig;erschulischen Lernort umgestaltet worden. Im &bdquo;Europ&auml;ischen Klassenzimmer&quot; wird das Thema &bdquo;Europa&quot; in seinen historischen, aktuellen und zukunftsweisenden Dimensionen vermittelt. Sch&uuml;lerinnen und Sch&uuml;ler (ab Sek 1) sind eingeladen, sich mit der Geschichte Europas zu besch&auml;ftigen und die europ&auml;ische Gegenwart und Zukunft gemeinsam zu diskutieren.

Achtung: Das Europ&auml;ische Klassenzimmer ist nicht &ouml;ffentlich zug&auml;nglich, sondern nur im Rahmen von gebuchten Programmen und F&uuml;hrungen.

&nbsp;

EUROPE DIRECT Aachen

Das EUROPE DIRECT Informationsb&uuml;ro ist dienstags bis donnerstags von 12 bis 16 Uhr und freitags von 10 bis 14 Uhr im Grashaus ge&ouml;ffnet und bietet kostenlose Beratung und Materialien &uuml;ber Europa und die EU. Es organisiert zudem viele Europa-Veranstaltungen wie Vortr&auml;ge, Seminare und Studienfahrten und wird kofinanziert von der Europ&auml;ischen Union.

&nbsp;

Tel.: +49 241 432-7627

E-Mail: europedirect@mail.aachen.de

Infos: www.europedirect-aachen.de

&nbsp;

&nbsp;

Verkehrsanbindung

Bus: vom Hbf Aachen aus alle Linien Richtung Bushof/Innenstadt zur Haltestelle Elisenbrunnen &gt; weiter zu Fu&szlig; (etwa 300 Meter) &gt; Dom &gt; Fischmarkt
Parkhaus: Dom/Jesuitenstra&szlig;e

Barrierefreiheit

Barrierefreier Zugang / WC / Aufzug
 Veröffentlicht von  https://www.lebendiges-aachen.de/
LAST-MODIFIED:20260422T040406
END:VEVENT
END:VCALENDAR
