BEGIN:VCALENDAR
PRODID:/modules.php?act=getical&eid=38074&name=Schedule
VERSION:2.0
CALSCALE:GREGORIAN
METHOD:PUBLISH
X-WR-CALNAME:Lebendiges Aachen-Ausstellungen und Veranstaltungen im LVR-Landesmuseum Bonn April 2026
X-WR-TIMEZONE:Europe/Berlin
X-WR-CALDESC:Original by https://www.lebendiges-aachen.de/
 Created by mxSchedule 
 Tecmu 2010-2026
BEGIN:VTIMEZONE
TZID:Europe/Berlin
X-LIC-LOCATION:Europe/Berlin
BEGIN:STANDARD
TZOFFSETFROM:+0100
TZOFFSETTO:+0200
TZNAME:CEST
DTSTART:19701025T030000
RRULE:FREQ=YEARLY;BYMONTH=10;BYDAY=-1SU
END:STANDARD
BEGIN:DAYLIGHT
TZOFFSETFROM:+0100
TZOFFSETTO:+0200
TZNAME:CEST
DTSTART:19700329T020000
RRULE:FREQ=YEARLY;BYMONTH=4;BYDAY=1SU
END:DAYLIGHT
END:VTIMEZONE
BEGIN:VEVENT
ORGANIZER;CN=LVR-LandesMuseum-Bonn-stephanie.mueller@lvr.de
DTSTART:20260401T190400
DTEND:20260430T190430
UID:dc7d360c5323fb91c06a5f15ada2ed8a
CREATED:20260421T150428
SUMMARY:Ausstellungen und Veranstaltungen im LVR-Landesmuseum Bonn April 2026
DESCRIPTION:Aktuelle Ausstellungen

Sch&ouml;ne neue Arbeitswelt
Traum und Trauma der Moderne
Bis 12. April 2026
Die Flexibilisierung der Arbeitszeit, die Fortschritte der K&uuml;nstlichen Intelligenz sowie der immer lautere Ruf nach einer Vier-Tage-Woche stellen unser traditionelles Verst&auml;ndnis von Arbeit infrage und sind Ausdruck einer sich rasant ver&auml;ndernden Welt. Eine vergleichbare Dynamik erlebte die Gesellschaft vor rund 100 Jahren, als technologische Innovationen und soziale Verschiebungen tiefgreifende Transformationen mit sich brachten. Zu Beginn des 20. Jahrhunderts beteiligten sich K&uuml;nstlerinnen und K&uuml;nstler mit gro&szlig;er Intensit&auml;t an den Debatten &uuml;ber den Zustand der arbeitenden Gesellschaft. Ihre Bilder und Objekte sind Zeugnisse politischer K&auml;mpfe, verhandeln Errungenschaften der Moderne und entwerfen Visionen f&uuml;r eine k&uuml;nftige Arbeitswelt.
Unter dem Titel &bdquo;Sch&ouml;ne neue Arbeitswelt. Traum und Trauma der Moderne&ldquo; beleuchtet das LVR-Landesmuseum Bonn erstmals die tiefgreifenden Ver&auml;nderungen der Arbeitswelt und deren k&uuml;nstlerische Reflexionen in der Zeit der Moderne. Sechs thematische Kapitel zeichnen die massiven Umbr&uuml;che von Arbeit und Gesellschaft nach &ndash; von den letzten Jahren des 19. Jahrhunderts bis zum Vorabend des Zweiten Weltkriegs. Ikonen der Neuen Sachlichkeit wie Leo Breuers &quot;Kohlenmann&quot; von 1931 treten in einen Dialog mit expressionistischen oder klassizistischen Arbeiten von K&uuml;nstlerinnen und K&uuml;nstlern wie Otto Dix, Conrad Felixm&uuml;ller, Hannah H&ouml;ch und Franz Wilhelm Seiwert. Weniger bekannte Positionen, etwa von Magnus Zeller, Sella Hasse oder Thea Warncke vervollst&auml;ndigen das Bild und laden zur Neuentdeckung ein. Dabei er&ouml;ffnen die historischen Debatten &uuml;berraschende Parallelen zu aktuellen Diskussionen &uuml;ber die Zukunft der Arbeit heute.

Dauerausstellung
WELT IM WANDEL. Das Rheinland vom Mittelalter bis Morgen

Unter dem Titel &bdquo;WELT IM WANDEL. Das Rheinland vom Mittelalter bis Morgen&ldquo; zeigt das LVR-Landesmuseum Bonn den ersten Teil seiner neuer&ouml;ffneten Dauerausstellung. Die v&ouml;llig neu gestaltete Sammlungspr&auml;sentation l&auml;dt zu einer faszinierenden Zeitreise durch 1000 Jahre Kunst- und Kulturgeschichte vom 10. Jahrhundert bis zur Gegenwart ein. Skulpturen, Gem&auml;lde, Grafiken, Fotoarbeiten und Kostbarkeiten des Kunsthandwerks erz&auml;hlen vom Leben und Alltag der Menschen am Rhein, aber auch von gesellschaftlichen Ver&auml;nderungen und neuen kulturellen Perspektiven. Zu den H&ouml;hepunkten der Sammlung z&auml;hlen mittelalterliche Holzskulpturen wie die Piet&agrave; Roettgen, prachtvolles Kunsthandwerk aus den barocken Residenzen, Gem&auml;lde der D&uuml;sseldorfer Malerschule sowie k&uuml;nstlerische Positionen und fotografische Arbeiten vom 20. Jahrhundert bis zur Gegenwart.&nbsp; Die &bdquo;Galerie der unscheinbaren Dinge&ldquo; zeigt erstmals arch&auml;ologische Funde der j&uuml;ngeren Geschichte. Den Bogen ins Morgen schl&auml;gt das &bdquo;Museum der Zukunft&ldquo;, das im Zentrum der Ausstellung zum Austausch &uuml;ber aktuelle Themen und Zukunftsfragen anregt. Zahlreiche interaktive Stationen und Multimedia-Angebote bieten ein Ausstellungserlebnis f&uuml;r alle.


F&uuml;hrungen

Freitag
3.4.2026
14:00-15:30 Uhr
F&uuml;hrung f&uuml;r Familien
Clara malt Conrad: Farbintensive Industrielandschaften
Begleitend zur Ausstellung &bdquo;Sch&ouml;ne neue Arbeitswelt. Traum und Trauma der Moderne zeigt das LVR-Landesmuseum Bonn 60 farbintensive Arbeiten von Sch&uuml;ler*innen der f&uuml;nften Klasse des Clara-Schumann-Gymnasiums Bonn, die sich intensiv mit den ausgestellten Industriebildern des Dresdner Malers Conrad Felixm&uuml;ller auseinandergesetzt haben. Nach einer F&uuml;hrung entstehen im Workshop eigene Arbeiten zu Industrielandschaften mit kr&auml;ftigen Kreidefarben nach Felixm&uuml;llers Vorbild.&nbsp; F&uuml;r Familien mit Kindern ab 6 Jahren.
Kosten: 6 &euro; (zzgl. Museumseintritt); Tickets an der Kasse und im Webshop &uuml;ber tickets.lmb.lvr.de&nbsp;


Freitag
3.4.2026
16-17 Uhr
F&uuml;hrung am freien Freitag
Sch&ouml;ne neue Arbeitswelt
Die Welt der Arbeit ist im Umbruch. Vertraute Berufsbilder ver&auml;ndern sich in rasantem Tempo. Eine vergleichbare Dynamik erlebte die Gesellschaft im fr&uuml;hen 20. Jahrhundert, als technologische Innovationen und soziale Verschiebungen tiefgreifende Ver&auml;nderungen mit sich brachten. Entdecken Sie, wie K&uuml;nstlerinnen und K&uuml;nstler dieser Zeit auf die neuen Herausforderungen reagierten, soziale Ungerechtigkeiten anprangerten und Visionen einer zuk&uuml;nftigen Gesellschaft entwarfen &ndash; und wie &uuml;berraschend aktuell viele dieser Fragen bis heute geblieben sind.
Kosten: 3 &euro;; Tickets an der Kasse und im Webshop &uuml;ber tickets.lmb.lvr.de


Sonntag
5.4.2026
11:30-12:30 Uhr
F&uuml;hrung
Sch&ouml;ne neue Arbeitswelt
Die Welt der Arbeit ist im Umbruch. Vertraute Berufsbilder ver&auml;ndern sich in rasantem Tempo. Eine vergleichbare Dynamik erlebte die Gesellschaft im fr&uuml;hen 20. Jahrhundert, als technologische Innovationen und soziale Verschiebungen tiefgreifende Ver&auml;nderungen mit sich brachten. Entdecken Sie, wie K&uuml;nstlerinnen und K&uuml;nstler dieser Zeit auf die neuen Herausforderungen reagierten, soziale Ungerechtigkeiten anprangerten und Visionen einer zuk&uuml;nftigen Gesellschaft entwarfen &ndash; und wie &uuml;berraschend aktuell viele dieser Fragen bis heute geblieben sind.
Kosten: 11 &euro;, erm&auml;&szlig;igt 7 &euro;, bei freiem Eintritt frei: Tickets an der Kasse und im Webshop &uuml;ber tickets.lmb.lvr.de
Montag
6.4.2026
11:30-12:30 Uhr
F&uuml;hrung
Sch&ouml;ne neue Arbeitswelt
Die Welt der Arbeit ist im Umbruch. Vertraute Berufsbilder ver&auml;ndern sich in rasantem Tempo. Eine vergleichbare Dynamik erlebte die Gesellschaft im fr&uuml;hen 20. Jahrhundert, als technologische Innovationen und soziale Verschiebungen tiefgreifende Ver&auml;nderungen mit sich brachten. Entdecken Sie, wie K&uuml;nstlerinnen und K&uuml;nstler dieser Zeit auf die neuen Herausforderungen reagierten, soziale Ungerechtigkeiten anprangerten und Visionen einer zuk&uuml;nftigen Gesellschaft entwarfen &ndash; und wie &uuml;berraschend aktuell viele dieser Fragen bis heute geblieben sind.
Kosten: 14 &euro;, erm&auml;&szlig;igt 10 &euro;, bei freiem Eintritt 3 &euro;; Tickets an der Kasse und im Webshop &uuml;ber tickets.lmb.lvr.de


Dienstag
7.4.2026
14:00-15:30 Uhr
F&uuml;hrung f&uuml;r Familien
Clara malt Conrad: Farbintensive Industrielandschaften
Begleitend zur Ausstellung &bdquo;Sch&ouml;ne neue Arbeitswelt. Traum und Trauma der Moderne zeigt das LVR-Landesmuseum Bonn 60 farbintensive Arbeiten von Sch&uuml;ler*innen der f&uuml;nften Klasse des Clara-Schumann-Gymnasiums Bonn, die sich intensiv mit den ausgestellten Industriebildern des Dresdner Malers Conrad Felixm&uuml;ller auseinandergesetzt haben. Nach einer F&uuml;hrung entstehen im Workshop eigene Arbeiten zu Industrielandschaften mit kr&auml;ftigen Kreidefarben nach Felixm&uuml;llers Vorbild. F&uuml;r Familien mit Kindern ab 6 Jahren.
Kosten: 6 &euro; (zzgl. Museumseintritt); Tickets an der Kasse und im Webshop &uuml;ber tickets.lmb.lvr.de&nbsp;


Mittwoch
8.4.2026
14-16 Uhr
Workshop f&uuml;r Familien: Quirlige Roboter
Sch&ouml;ne neue Arbeitswelt. Traum und Trauma der Moderne
Die Ausstellung &bdquo;Sch&ouml;ne neue Arbeitswelt. Traum und Trauma der Moderne&ldquo; zeigt, wie Technik und Maschinen die Arbeit vor 100 Jahren ver&auml;nderten und wie K&uuml;nstler*innen darauf reagierten. Ihre Werke wirken bis heute nach &ndash; bis hin zum goldenen Roboter C-3PO aus Star Wars. Bei dem Workshop entstehen kleine quirlige B&uuml;rstenroboter, die sich bunt und lustig bewegen. F&uuml;r Familien mit Kindern ab 8 Jahren.
Kosten: 6 &euro; Teilnahmegeb&uuml;hr (Kosten pro Kind ab 8 Jahren); Tickets an der Kasse und im Webshop &uuml;ber tickets.lmb.lvr.de&nbsp;


Mittwoch
8.4.2026
15-16 Uhr
F&uuml;hrung
5 Bilder &ndash; 5 Fakten. Provenienzforschung am Museum
Am internationalen Tag der Provenienzforschung beleuchtet die Expertin Kim Bures-Kremser anhand von f&uuml;nf Fakten die Herkunft von f&uuml;nf ausgew&auml;hlten Kunstobjekten aus der Dauerausstellung WELT IM WANDEL und gibt Einblicke in die Arbeitsweise der Provenienzforschung am LVR-Landesmuseum Bonn. Ein besonderes Augenmerk liegt auf der Herkunft der Museumsbest&auml;nde zwischen 1933 und 1945 und dem sogenannten verfolgungsbedingten Entzug von Kunstwerken durch die Nationalsozialisten.&nbsp;
Kosten: 5 &euro; zzgl. Museumseintritt. Tickets an der Kasse und im Webshop &uuml;ber tickets.lmb.lvr.de


Freitag
10.4.2026
14-15:30 Uhr
F&uuml;hrung f&uuml;r Familien
Clara malt Conrad: Farbintensive Industrielandschaften
Begleitend zur Ausstellung &bdquo;Sch&ouml;ne neue Arbeitswelt. Traum und Trauma der Moderne zeigt das LVR-Landesmuseum Bonn 60 farbintensive Arbeiten von Sch&uuml;ler*innen der f&uuml;nften Klasse des Clara-Schumann-Gymnasiums Bonn, die sich intensiv mit den ausgestellten Industriebildern des Dresdner Malers Conrad Felixm&uuml;ller auseinandergesetzt haben. Nach einer F&uuml;hrung entstehen im Workshop eigene Arbeiten zu Industrielandschaften mit kr&auml;ftigen Kreidefarben nach Felixm&uuml;llers Vorbild.&nbsp; F&uuml;r Familien mit Kindern ab 6 Jahren.
Kosten: 6 &euro; (zzgl. Museumseintritt); Tickets an der Kasse und im Webshop &uuml;ber tickets.lmb.lvr.de&nbsp;

Sonntag
12.4.2026
11:15-12:45 Uhr
Workshop f&uuml;r Kinder: Roboterworkshop
Sch&ouml;ne neue Arbeitswelt. Traum und Trauma der Moderne
Die Ausstellung &bdquo;Sch&ouml;ne neue Arbeitswelt. Traum und Trauma der Moderne&ldquo; zeigt, wie Technik und Maschinen die Arbeit vor 100 Jahren ver&auml;nderten und wie K&uuml;nstler*innen darauf reagierten. Ihre Werke wirken bis heute nach &ndash; bis hin zum goldenen Roboter C-3PO aus Star Wars. Nach einer Einf&uuml;hrung in die Ausstellung, entsteht mit Fantasie und Geschick ein lustiger Mini-Roboter aus Holz, Werkstattresten, Schrauben und anderen Materialen. F&uuml;r Kinder ab 8 Jahren.
Kosten: 5 &euro; Teilnahmegeb&uuml;hr (Kosten pro Kind ab 8 Jahren); Tickets an der Kasse und im Webshop &uuml;ber tickets.lmb.lvr.de&nbsp;

Sonntag
12.4.2026
11:30-12:30 Uhr, 15-16 Uhr
F&uuml;hrung
Sch&ouml;ne neue Arbeitswelt
Die Welt der Arbeit ist im Umbruch. Vertraute Berufsbilder ver&auml;ndern sich in rasantem Tempo. Eine vergleichbare Dynamik erlebte die Gesellschaft im fr&uuml;hen 20. Jahrhundert, als technologische Innovationen und soziale Verschiebungen tiefgreifende Ver&auml;nderungen mit sich brachten. Entdecken Sie, wie K&uuml;nstlerinnen und K&uuml;nstler dieser Zeit auf die neuen Herausforderungen reagierten, soziale Ungerechtigkeiten anprangerten und Visionen einer zuk&uuml;nftigen Gesellschaft entwarfen &ndash; und wie &uuml;berraschend aktuell viele dieser Fragen bis heute geblieben sind.
Kosten: 14 &euro;, erm&auml;&szlig;igt 10 &euro;, bei freiem Eintritt 3 &euro;; Tickets an der Kasse und im Webshop &uuml;ber tickets.lmb.lvr.de


Freitag
17.4.2026
10:15&ndash;11:45 Uhr
Mit dem Baby ins Museum
5 Bilder &ndash; 5 Fakten. Provenienzforschung am Museum
Anhand von f&uuml;nf Fakten wird die Herkunft von f&uuml;nf ausgew&auml;hlten Kunstobjekten der Sammlung beleuchtet. Kunsthistorikerin Judith Graefe erkl&auml;rt, wie Provenienzforschung am LVR-Landesmuseum Bonn funktioniert und warum diese wichtig ist. Ein besonderer Fokus liegt auf zwischen 1933 und 1945 erworbener Kunst und ihrem Entzug durch die Nationalsozialisten. W&auml;hrend der F&uuml;hrung kann sich jederzeit in einen reservierten Raum zur&uuml;ckgezogen werden, so erleben junge Familien einen entspannten Ausstellungsbesuch und kommen miteinander ins Gespr&auml;ch.
Kosten: 15 &euro; (inkl. Museumseintritt f&uuml;r Babys und Eltern einer Familie); Tickets an der Kasse und im Webshop &uuml;ber tickets.lmb.lvr.de


Sonntag
19.4.2026
11:30&ndash;12:30 Uhr
F&uuml;hrung
Highlights der kulturhistorischen Sammlung
Der gef&uuml;hrte Rundgang stellt herausragende Exponate der Sammlung vom Mittelalter bis heute vor und nimmt Sie mit auf eine faszinierende Zeitreise durch die wechselvolle Kunst- und Kulturgeschichte des Rheinlands.
14 &euro;, erm&auml;&szlig;igt 10 &euro;, bei freiem Eintritt 3 &euro;; Tickets an der Kasse und im Webshop &uuml;ber tickets.lmb.lvr.de


Sonntag
26.4.2026
11:30-12:30 Uhr
F&uuml;hrung
Geheimnis Neandertaler
Der Neandertaler lebte vor etwa 42.000 Jahren im Neandertal bei D&uuml;sseldorf. Die F&uuml;hrung taucht ein in die faszinierende Welt unseres gemeinsamen Vorfahren, dessen Originalskelett im LVR-Landesmuseum Bonn zu sehen ist. In den vergangenen Jahren hat die moderne Wissenschaft zahlreiche neue Erkenntnisse &uuml;ber diese fr&uuml;hen Menschen gewonnen, etwa was sie gegessen haben, in welchem Klima sie lebten und ob sie mit uns verwandt sind. Die F&uuml;hrung wirft ein Schlaglicht auf den Neandertaler, wie er lebte, wie sein Skelett gefunden wurde und wie er bis heute erforscht wird.&nbsp;
Kosten: 14 &euro;, erm&auml;&szlig;igt 10 &euro;, bei freiem Eintritt 3 &euro;; Tickets an der Kasse und im Webshop &uuml;ber tickets.lmb.lvr.de


Sonntag
29.3.2026
11:30&ndash;12:30 Uhr
F&uuml;hrung
Sch&ouml;ne neue Arbeitswelt
Die Welt der Arbeit ist im Umbruch. Vertraute Berufsbilder ver&auml;ndern sich in rasantem Tempo. Eine vergleichbare Dynamik erlebte die Gesellschaft im fr&uuml;hen 20. Jahrhundert, als technologische Innovationen und soziale Verschiebungen tiefgreifende Ver&auml;nderungen mit sich brachten. Entdecken Sie, wie K&uuml;nstlerinnen und K&uuml;nstler dieser Zeit auf die neuen Herausforderungen reagierten, soziale Ungerechtigkeiten anprangerten und Visionen einer zuk&uuml;nftigen Gesellschaft entwarfen &ndash; und wie &uuml;berraschend aktuell viele dieser Fragen bis heute geblieben sind.
Kosten: 3 &euro; (zzgl. Museumseintritt); Tickets an der Kasse und im Webshop &uuml;ber tickets.lmb.lvr.de


Veranstaltungen &amp; Workshops

Mittwoch
8.4.2026
14-16 Uhr
Workshop f&uuml;r Familien: Quirlige Roboter
Sch&ouml;ne neue Arbeitswelt. Traum und Trauma der Moderne
Die Ausstellung &bdquo;Sch&ouml;ne neue Arbeitswelt. Traum und Trauma der Moderne&ldquo; zeigt, wie Technik und Maschinen die Arbeit vor 100 Jahren ver&auml;nderten und wie K&uuml;nstler*innen darauf reagierten. Ihre Werke wirken bis heute nach &ndash; bis hin zum goldenen Roboter C-3PO aus Star Wars. Bei dem Workshop entstehen kleine quirlige B&uuml;rstenroboter, die sich bunt und lustig bewegen. F&uuml;r Familien mit Kindern ab 6 Jahren.
Kosten: 6 &euro; Teilnahmegeb&uuml;hr (Kosten pro Kind ab 8 Jahren); Tickets an der Kasse und im Webshop &uuml;ber tickets.lmb.lvr.de
Sonntag
12.4.2026
11:15-12:45 Uhr
Workshop f&uuml;r Kinder: Roboterworkshop
Sch&ouml;ne neue Arbeitswelt. Traum und Trauma der Moderne
Die Ausstellung &bdquo;Sch&ouml;ne neue Arbeitswelt. Traum und Trauma der Moderne&ldquo; zeigt, wie Technik und Maschinen die Arbeit vor 100 Jahren ver&auml;nderten und wie K&uuml;nstler*innen darauf reagierten. Ihre Werke wirken bis heute nach &ndash; bis hin zum goldenen Roboter C-3PO aus Star Wars. Nach einer Einf&uuml;hrung in die Ausstellung, entsteht mit Fantasie und Geschick ein lustiger Mini-Roboter aus Holz, Werkstattresten, Schrauben und anderen Materialen. F&uuml;r Kinder ab 8 Jahren
Kosten: 5 &euro; Teilnahmegeb&uuml;hr (Kosten pro Kind ab 8 Jahren); Tickets an der Kasse und im Webshop &uuml;ber tickets.lmb.lvr.de


Mittwoch
1.4.2026
14&ndash;16 Uhr
Objektbegutachtung
Ob Erbst&uuml;ck oder Dachbodenfund &ndash; jeden 1. Mittwoch im Monat werfen Wissenschaftler*innen des LVR-Landesmuseums Bonn einen Blick auf mitgebrachte arch&auml;ologische Fundst&uuml;cke, M&uuml;nzen, Kunstwerke, kunsthandwerkliche Arbeiten und Grafiken.&nbsp;
Die Expert*innen geben eine erste Einsch&auml;tzung zu den Objekten, ihrem Alter, den K&uuml;nstlerinnen und K&uuml;nstlern sowie zur kunsthistorischen Einordnung. Preissch&auml;tzungen sind nicht m&ouml;glich. Die Begutachtung findet kostenfrei in der Bibliothek statt.

&nbsp;

Freitag
3.4.2026
17-19:30 Uhr
Open Stage am freien Freitag &ndash; mit After-Work-Session
Raus aus dem B&uuml;ro, rauf auf die B&uuml;hne! Einfach den Stress des Arbeitsalltags hinter sich lassen und einen musikalischen Feierabend im Museum genie&szlig;en &ndash; ob mit Instrument oder als Fans. Von der Jamsession bis zur Chorprobe &ndash; das LVR-Landesmuseum Bonn gibt Musiker*innen eine B&uuml;hne, um live in der Ausstellung zu spielen und das Museum mit Kl&auml;ngen zu f&uuml;llen. Eine Anmeldung ist w&uuml;nschenswert, spontane Auftritte sind auch m&ouml;glich, sofern die B&uuml;hne frei ist.&nbsp;
Anmeldung unter: info.lmb@rheinlandkultur.de, kostenlos
 Veröffentlicht von  https://www.lebendiges-aachen.de/
LAST-MODIFIED:20260421T150428
END:VEVENT
END:VCALENDAR
