BEGIN:VCALENDAR
PRODID:/modules.php?act=getical&eid=38073&name=Schedule
VERSION:2.0
CALSCALE:GREGORIAN
METHOD:PUBLISH
X-WR-CALNAME:Lebendiges Aachen-Centre Charlemagne im April 2026
X-WR-TIMEZONE:Europe/Berlin
X-WR-CALDESC:Original by https://www.lebendiges-aachen.de/
 Created by mxSchedule 
 Tecmu 2010-2026
BEGIN:VTIMEZONE
TZID:Europe/Berlin
X-LIC-LOCATION:Europe/Berlin
BEGIN:STANDARD
TZOFFSETFROM:+0100
TZOFFSETTO:+0200
TZNAME:CEST
DTSTART:19701025T030000
RRULE:FREQ=YEARLY;BYMONTH=10;BYDAY=-1SU
END:STANDARD
BEGIN:DAYLIGHT
TZOFFSETFROM:+0100
TZOFFSETTO:+0200
TZNAME:CEST
DTSTART:19700329T020000
RRULE:FREQ=YEARLY;BYMONTH=4;BYDAY=1SU
END:DAYLIGHT
END:VTIMEZONE
BEGIN:VEVENT
ORGANIZER;CN=Stadt_Aachen-presse@mail.aachen.de
DTSTART:20260401T190400
DTEND:20260430T190430
UID:4fd95378e6f8fe9f4aa8a2be85769939
CREATED:20260419T150434
SUMMARY:Centre Charlemagne im April 2026
DESCRIPTION:Sonderausstellung

Bravo! Bravissimo! 200 Jahre Theater Aachen

Bis 12. April

Die Ausstellung zum 200-j&auml;hrigen Jubil&auml;um des Theater Aachen gibt verschiedene Einblicke in die Welt des Theaters. Wir schauen hinter die Kulissen, erz&auml;hlen aber auch vom Geschehen auf den B&uuml;hnen des Hauses. Was kam besonders gut an? Welche Herausforderungen gab es? Was geschah zur Zeit des Nationalsozialismus am Theater Aachen und wie verlief der Wiederaufbau nach der fast vollst&auml;ndigen Kriegszerst&ouml;rung?

&bdquo;Bravo! Bravissimo! 200 Jahre Theater Aachen&quot; l&auml;dt alle Besucher*innen ein, das Theater aus einer neuen Perspektive zu entdecken. Viele historische Momente werden aufbereitet und kurzweilig durch Exponate und Dokumente oder als Videos und H&ouml;rbeispiele pr&auml;sentiert.
Tauchen Sie ein in die Gedankenwelt bedeutender Pers&ouml;nlichkeiten, zum Beispiel von Ferdinand Ries, dem Dirigenten und Leiter des ersten Niederrheinischen Musikfestes in Aachen. Die Ausstellung bietet einen Einblick in 200 Jahre Aachener Theatergeschichte und spielt dabei mit unterschiedlichen Zeitebenen. Sie gew&auml;hrt Einblicke in die Vergangenheit, Gegenwart und Zukunft des Theater Aachen.

Kuratorinnen: Viktoria Walmrath und Myriam Kroll

&nbsp;

&Ouml;ffentliche F&uuml;hrungen / Wechselausstellung

Bravo! Bravissimo! 200 Jahre Theater Aachen

So 05.04. /.12.04., 15.00 Uhr

&nbsp;

Museumseintritt zzgl. F&uuml;hrung 3,00 Euro

Treffpunkt Museumskasse


Auskunft: Museumsdienst der Stadt Aachen
Tel.: +49 241 432-4998
Servicezeiten: Di &ndash; Fr: 9.00 &ndash; 14.00 Uhr

&nbsp;

&Ouml;ffentliche F&uuml;hrungen / Dauerausstellung

Samstags 14.00 Uhr und sonntags 12.00 Uhr

Museumseintritt zzgl. F&uuml;hrung 3,00 Euro

Treffpunkt Museumskasse


Auskunft: Museumsdienst der Stadt Aachen
Tel.: +49 241 432-4998
Servicezeiten: Di &ndash; Fr: 9.00 &ndash; 14.00 Uhr

&nbsp;

Sa 04.04.2026

14.00 &ndash; 15.00 Uhr

Leben um 800

mit Julia-Anna Preisler

&nbsp;

So 05.04.2026&nbsp;

12.00 &ndash; 13.00 Uhr

Stein, Wasser und Metall &ndash; Exportschlager aus Aachen

mit Julia Samp

&nbsp;

Sa 11.04.2026

14.00 &ndash; 15.00 Uhr

Feuer und Wasser in Aachen

mit Dr. Monika Haas

&nbsp;

So 12.04.2026

12.00 &ndash; 13.00 Uhr

Aachen und die Kr&ouml;nungen

mit Lara Witt

&nbsp;

Sa 18.04.2026

14.00 &ndash; 15.00 Uhr

Architektur und Kunst im Zeichen karolingischer Macht

mit Dr. Gudrun Liegl-Raditschnigg

&nbsp;

So 19.04.2026

12.00 &ndash; 13.00 Uhr

Aachen in der Franzosenzeit

mit Sibylle Reu&szlig;

&nbsp;

Sa 25.04.2026

14.00 &ndash; 15.00 Uhr

Karl der Gro&szlig;e und seine Zeitgenossen

mit Gerti Klein-Verwijst

&nbsp;

So 26.04.2026

12.00 &ndash; 13.00 Uhr

Aachens besondere Bedeutung als Grenzort

mit Bj&ouml;rn Wickmann

&nbsp;

&Ouml;ffentliche F&uuml;hrung am Vormittag / Wechselausstellung

Do 02.04.2026

11.00 &ndash; 12.00 Uhr

Bravo! Bravissimo! 200 Jahre Theater Aachen

mit Julia-Anna Preisler

Museumseintritt zzgl. F&uuml;hrung 3,00 Euro

Treffpunkt Museumskasse

Anmeldung erforderlich bis 30.03.2026

&nbsp;

Osterferienangebote

Steinreich oder auf dem Holzweg sein?

Mi 01. April 2026, 10 &ndash; 13 Uhr / eint&auml;giger Ferienworkshop

F&uuml;r Kinder von 6 &ndash; 10 Jahren

Aus dem Mittelalter stammen viele Redewendungen, die wie auch heute noch benutzen. Die meisten H&auml;user bestanden damals aus Holz &ndash; als &bdquo;steinreich&quot; wurden Hausbesitzer bezeichnet, deren H&auml;user aus Stein gebaut waren. Und was bedeutet es, auf &bdquo;dem Holzweg&quot; zu sein oder &bdquo;einen Zahn zuzulegen&quot;? Dazu erfahrt Ihr vieles im Museum und k&ouml;nnt in der Kunstwerkstatt ein eigenes Kunstwerk drucken.

Mit Pia G&uuml;ntner

Kosten: 12&euro;

&nbsp;

Anmeldung

Museumsdienst Aachen

museumsdienst@mail.aachen.de

0241 432 4988

&nbsp;

Wie ein Fisch im Wasser

Do 02. April 2026, 10 &ndash; 13 Uhr / eint&auml;giger Ferienworkshop

F&uuml;r Kinder ab 7 Jahren

Wie ein Fisch im Wasser f&uuml;hlte sich Kaiser Karl vermutlich, wenn er in den hei&szlig;en Quellen Aachens badete. Auch seine Familie, Freunde, G&auml;ste und sogar seine Leibwache stiegen mit ihm ins Wasser. Aber wo kam das Wasser eigentlich her und war es zum Schwimmen nicht viel zu hei&szlig;? Dazu erfahrt Ihr vieles in unserer Ausstellung und im Workshop k&ouml;nnt ihr ausprobieren, mit welchen Farben und Techniken es gelingen kann, Wasser zu malen.

Mit Uta Hellendoorn-Werths

Kosten: 12&euro;

&nbsp;

Anmeldung

Museumsdienst Aachen

museumsdienst@mail.aachen.de

0241 432 4988

&nbsp;

&Ouml;ffentliche F&uuml;hrungen im Grashaus

Fischmarkt 3, 52062 Aachen

&nbsp;

&bdquo;Das Grashaus &ndash; Im Wandel der Zeiten&quot;

Samstag, 04.04.2026 um 15.00 Uhr

mit Julia-Anna Preisler

ACHTUNG! Treffpunkt ist die Museumskasse des Centre Charlemagne, Katschhof 1, 52062 Aachen

Kein Eintritt / F&uuml;hrung 3,00 Euro

&nbsp;

&Ouml;ffentliche F&uuml;hrungen im Zollmuseum

Horbacher Str. 497, 52072 Aachen

&nbsp;

Sonntag, 05.04.2026 um 11.00 Uhr

Sonntag, 19.04.2026 um 14.30 Uhr

mit Peter Dinninghoff

&nbsp;

Eintritt und F&uuml;hrung kostenfrei

Ohne Anmeldung

SERVICE:

CENTRE CHARLEMAGNE

Neues Stadtmuseum Aachen

Katschhof 1, 52062 Aachen

Tel.: +49 241 432-4994

info@centre-charlemagne.eu

www.centre-charlemagne.eu

www.route-charlemagne.eu

&nbsp;

Das CENTRE CHARLEMAGNE &ndash; Neues Stadtmuseum Aachen f&uuml;hrt multimedial durch die gesamte Stadtgeschichte. Von der fr&uuml;hesten Besiedlung &uuml;ber die r&ouml;mische Stadt und die Pfalz der Karolinger, &uuml;ber den mond&auml;nen barocken Kurort bis zur heutigen vielf&auml;ltigen Europastadt. Das Geschichtslabor macht die karolingische Alltagskultur erfahrbar.

&nbsp;

&Ouml;ffnungszeiten

Di &ndash; So und an Feiertagen 10.00 &ndash; 18.00 Uhr

Mo geschlossen

&nbsp;

Eintritt

Freier Eintritt f&uuml;r Besucher*innen bis einschlie&szlig;lich 21 Jahren innerhalb Stadt Aachen und St&auml;dteRegion

Erwachsene: 10,00 Euro; erm&auml;&szlig;igt: 6,00 Euro

&nbsp;

Verkehrsanbindung

Bus: von Hbf Aachen alle Linien Richtung Bushof/Innenstadt zur Haltestelle Elisenbrunnen &ndash; weiter zu Fu&szlig; &gt; Dom &gt; Katschhof

Parkhaus: Dom / Jesuitenstra&szlig;e

&nbsp;

Barrierefreiheit

barrierefreier Zugang / WC / Aufzug
 Veröffentlicht von  https://www.lebendiges-aachen.de/
LAST-MODIFIED:20260419T150434
END:VEVENT
END:VCALENDAR
