BEGIN:VCALENDAR
PRODID:/modules.php?act=getical&eid=38072&name=Schedule
VERSION:2.0
CALSCALE:GREGORIAN
METHOD:PUBLISH
X-WR-CALNAME:Lebendiges Aachen-„FH Aachen im Dialog – Von der Vision zur Innovation"
X-WR-TIMEZONE:Europe/Berlin
X-WR-CALDESC:Original by https://www.lebendiges-aachen.de/
 Created by mxSchedule 
 Tecmu 2010-2026
BEGIN:VTIMEZONE
TZID:Europe/Berlin
X-LIC-LOCATION:Europe/Berlin
BEGIN:STANDARD
TZOFFSETFROM:+0100
TZOFFSETTO:+0200
TZNAME:CEST
DTSTART:19701025T030000
RRULE:FREQ=YEARLY;BYMONTH=10;BYDAY=-1SU
END:STANDARD
BEGIN:DAYLIGHT
TZOFFSETFROM:+0100
TZOFFSETTO:+0200
TZNAME:CEST
DTSTART:19700329T020000
RRULE:FREQ=YEARLY;BYMONTH=4;BYDAY=1SU
END:DAYLIGHT
END:VTIMEZONE
BEGIN:VEVENT
ORGANIZER;CN=FH_Aachen-presseverteiler1@list.fh-aachen.de
DTSTART:20260421T160430
DTEND:20260421T200400
UID:ea633552c1e49186570491e04c75c3c4
CREATED:20260421T110440
SUMMARY:„FH Aachen im Dialog – Von der Vision zur Innovation"
DESCRIPTION:Am Dienstag, 21. April 2026, 16.30 bis 20 Uhr, l&auml;dt die FH Aachen erstmals zu ihrer Veranstaltung &bdquo;FH Aachen im Dialog &ndash; Von der Vision zur Innovation&ldquo; ein, die sich um die Themen Innovation, Kooperation und Gr&uuml;ndung dreht. Die Veranstaltung findet statt am Campus Eupener Stra&szlig;e 70, Geb&auml;ude C, Raum C103 (Alexander-Wilden-Saal).

Mit diesem neuen Format schafft die FH einen Raum f&uuml;r Austausch zwischen Hochschule, Wirtschaft, Politik und regionalen Partnern. Die G&auml;ste erhalten Einblicke in aktuelle Innovations- und Kooperationsprojekte und haben Gelegenheit zum pers&ouml;nlichen Dialog und zur Vernetzung. Auf dem Programm stehen Kurzimpulse und Speed-Keynotes zu Kooperation, Gr&uuml;ndung und Innovation, die Forschungspreisverleihung der FH Aachen sowie One-Minute-Pitches ausgew&auml;hlter Projekte. Der Rektor der FH Aachen, Prof. Dr. Thomas Ritz, wird mit dem Oberb&uuml;rgermeister der Stadt Aachen, Dr. Michael Ziemons, und IHK-Hauptgesch&auml;ftsf&uuml;hrer Michael F. Bayer &uuml;ber das Thema &bdquo;Regionaler Motor: Zukunftsdialog mit FH, IHK und der Stadt Aachen&ldquo; sprechen.

Die Veranstaltung steht allen Interessierten offen. Eine Anmeldung ist erforderlich, der Eintritt ist frei.

Weitere Informationen zur Veranstaltung sowie die M&ouml;glichkeit zur Anmeldung finden Sie auf unserer Webseite: www.fhac.de/fh-im-dialog

Direkt anmelden kann man sich &uuml;ber diese Webseite: https://eveeno.com/fhaachenimdialog
 Veröffentlicht von  https://www.lebendiges-aachen.de/
LAST-MODIFIED:20260421T110440
END:VEVENT
END:VCALENDAR
