BEGIN:VCALENDAR
PRODID:/modules.php?act=getical&eid=38070&name=Schedule
VERSION:2.0
CALSCALE:GREGORIAN
METHOD:PUBLISH
X-WR-CALNAME:Lebendiges Aachen-„Sprechstunde vor Ort\" in Oidtweiler
X-WR-TIMEZONE:Europe/Berlin
X-WR-CALDESC:Original by https://www.lebendiges-aachen.de/
 Created by mxSchedule 
 Tecmu 2010-2026
BEGIN:VTIMEZONE
TZID:Europe/Berlin
X-LIC-LOCATION:Europe/Berlin
BEGIN:STANDARD
TZOFFSETFROM:+0100
TZOFFSETTO:+0200
TZNAME:CEST
DTSTART:19701025T030000
RRULE:FREQ=YEARLY;BYMONTH=10;BYDAY=-1SU
END:STANDARD
BEGIN:DAYLIGHT
TZOFFSETFROM:+0100
TZOFFSETTO:+0200
TZNAME:CEST
DTSTART:19700329T020000
RRULE:FREQ=YEARLY;BYMONTH=4;BYDAY=1SU
END:DAYLIGHT
END:VTIMEZONE
BEGIN:VEVENT
ORGANIZER;CN=Stadt_Baesweiler-pressestelle@Stadt.Baesweiler.de
DTSTART:20260421T150430
DTEND:20260421T170400
UID:6e8f6b23a5de52319f61762e426f5fc3
CREATED:20260419T190447
SUMMARY:„Sprechstunde vor Ort\" in Oidtweiler
DESCRIPTION:Auch in diesem Jahr bietet B&uuml;rgermeister Pierre Froesch in den Fr&uuml;hlings- und Sommermonaten die &bdquo;Sprechstunde vor Ort&quot; in den einzelnen Stadtteilen an. Bewohnerinnen und Bewohner der einzelnen Orte, aber nat&uuml;rlich auch alle Baesweiler B&uuml;rgerinnen und B&uuml;rger, sind herzlich eingeladen, vorbeizukommen und dem B&uuml;rgermeister ihre Anregungen und Ideen mitzuteilen oder ihm Fragen zu stellen.

Der B&uuml;rgermeister h&auml;lt die Sprechstunde am Dienstag, 21. April, von 15.30 bis 17.00 Uhr in Oidtweiler am Dorfplatz ab.

Interessierte B&uuml;rgerinnen und B&uuml;rger werden gebeten, sich bis zum Freitag der Vorwoche im Vorzimmer des B&uuml;rgermeisters, Zimmer A.202, 2. Etage, mit Angabe des jeweiligen Anliegens anzumelden, damit in der Sprechstunde bereits umfangreich Auskunft gegeben werden kann. Anmeldungen werden ebenso per E-Mail an info@stadt.baesweiler.de oder unter 02401/800-204 entgegengenommen. Nat&uuml;rlich sind bei der Sprechstunde &bdquo;vor Ort&quot; auch spontane Besuche m&ouml;glich.

Dar&uuml;ber hinaus bietet der B&uuml;rgermeister selbstverst&auml;ndlich auch weiterhin die regul&auml;re w&ouml;chentliche Sprechstunde dienstags, ebenfalls von 15.30 bis 17.30 Uhr, in der B&uuml;rgerMitteBaesweiler, Mariastra&szlig;e 2, Zimmer A.203, an. Anmeldungen werden auch hierzu unter den oben angegebenen Kontaktm&ouml;glichkeiten entgegengenommen.
 Veröffentlicht von  https://www.lebendiges-aachen.de/
LAST-MODIFIED:20260419T190447
END:VEVENT
END:VCALENDAR
