BEGIN:VCALENDAR
PRODID:/modules.php?act=getical&eid=38038&name=Schedule
VERSION:2.0
CALSCALE:GREGORIAN
METHOD:PUBLISH
X-WR-CALNAME:Lebendiges Aachen-Petry Slam - Dichter dran!
X-WR-TIMEZONE:Europe/Berlin
X-WR-CALDESC:Original by https://www.lebendiges-aachen.de/
 Created by mxSchedule 
 Tecmu 2010-2026
BEGIN:VTIMEZONE
TZID:Europe/Berlin
X-LIC-LOCATION:Europe/Berlin
BEGIN:STANDARD
TZOFFSETFROM:+0100
TZOFFSETTO:+0200
TZNAME:CEST
DTSTART:19701025T030000
RRULE:FREQ=YEARLY;BYMONTH=10;BYDAY=-1SU
END:STANDARD
BEGIN:DAYLIGHT
TZOFFSETFROM:+0100
TZOFFSETTO:+0200
TZNAME:CEST
DTSTART:19700329T020000
RRULE:FREQ=YEARLY;BYMONTH=4;BYDAY=1SU
END:DAYLIGHT
END:VTIMEZONE
BEGIN:VEVENT
ORGANIZER;CN=Alter_Schlachthof-info@alter-schlachthof.be
DTSTART:20260502T200500
DTEND:20260502T090500
UID:d7af763c5dd394a8b7a5d537af722106
CREATED:20260421T120458
SUMMARY:Petry Slam - Dichter dran!
DESCRIPTION:Sprachmagie im verbalen Boxring. Seit 2016 pr&auml;sentieren B&uuml;hnen-Poet:innen aus Ostbelgien, Deutschland, Luxemburg ihre besten Texte beim Eupener Poetry-Slam Dichter dran! Darunter sind Literaturprofis genauso wie freestylende Nachwuchstalente, 18-J&auml;hrige wie &auml;ltere Semester in den goldenen erfahrungsreichen Jahren und nat&uuml;rlich auch Menschen beider Geschlechter und aus unterschiedlichen kulturellen Hintergr&uuml;nden. Alle setzten sich oft auf witzige Weise mit dem Zeitgeist und der (Nicht)-Konsensrealit&auml;t auseinander. Am Ende entscheidet das Publikum &uuml;ber den besten Text und dessen Performance.

Weitere Infos &amp; Tickets:

https://www.alter-schlachthof.be/veranstaltung/dichter-dran-13/

&nbsp;
 Veröffentlicht von  https://www.lebendiges-aachen.de/
LAST-MODIFIED:20260421T120458
END:VEVENT
END:VCALENDAR
