BEGIN:VCALENDAR
PRODID:/modules.php?act=getical&eid=37879&name=Schedule
VERSION:2.0
CALSCALE:GREGORIAN
METHOD:PUBLISH
X-WR-CALNAME:Lebendiges Aachen-„Vier im Couven\" mit dem Chapelle Quartett Aachen
X-WR-TIMEZONE:Europe/Berlin
X-WR-CALDESC:Original by https://www.lebendiges-aachen.de/
 Created by mxSchedule 
 Tecmu 2010-2026
BEGIN:VTIMEZONE
TZID:Europe/Berlin
X-LIC-LOCATION:Europe/Berlin
BEGIN:STANDARD
TZOFFSETFROM:+0100
TZOFFSETTO:+0200
TZNAME:CEST
DTSTART:19701025T030000
RRULE:FREQ=YEARLY;BYMONTH=10;BYDAY=-1SU
END:STANDARD
BEGIN:DAYLIGHT
TZOFFSETFROM:+0100
TZOFFSETTO:+0200
TZNAME:CEST
DTSTART:19700329T020000
RRULE:FREQ=YEARLY;BYMONTH=4;BYDAY=1SU
END:DAYLIGHT
END:VTIMEZONE
BEGIN:VEVENT
ORGANIZER;CN=Stadt_Aachen-presse@mail.aachen.de
DTSTART:20260201T090200
DTEND:20260614T090630
UID:cd09c6d6a782fa5af8413b27d9dc475c
CREATED:20260421T100424
SUMMARY:„Vier im Couven\" mit dem Chapelle Quartett Aachen
DESCRIPTION:&bdquo;Vier im Couven&quot; startet ins Konzertjahr 2026. Am Sonntag, 1. Februar, nimmt das Chapelle Quartett (Philipp Wenger, Katharina Blasel, Martin Hoffmann und Giulia Ajmone-Marsan) die beliebte Kammermusikreihe mit einer musikalischen Reise mit Ludwig van Beethoven und Robert Schumann wieder auf.

Ein weiteres Konzert mit letzten Werken von Wolfgang Amadeus Mozart und Antonin Dvorak f&uuml;r Sonntag, 14. Juni, steht auch schon auf dem Programm. Der Vorverkauf hat begonnen.

Chapelle Quartett &ndash; &bdquo;Vier im Couven&quot;&nbsp;&nbsp;
Sonntag, 01.02.26, 16 Uhr
Eine musikalische Reise mit Ludwig van Beethoven und Robert Schumann

Ludwig van Beethoven, Quartett c-moll op.18 Nr. 4
Eines der ersten Quartette Beethovens, ein Werk voll ungest&uuml;mer Leidenschaftlichkeit.

Robert Schumann, Quartett A-Dur op. 41 Nr. 3
Schumann bleibt in seinen Quartetten ganz klassisch in der Form, sein gro&szlig;es Vorbild dabei ist Mendelssohn.

Chapelle Quartett &ndash; &bdquo;Vier im Couven&quot;
Sonntag, 14.06.26, 16 Uhr
Letzte Werke von Wolfgang Amadeus Mozart und Antonin Dvorak&nbsp; &nbsp;

Wolfgang Amadeus Mozart, Quartett F-Dur KV 590
Das letzte der drei &bdquo;Preu&szlig;ischen&quot; Quartette, angeregt von Mozarts Besuch beim preu&szlig;ischen K&ouml;nig in Potsdam&nbsp;

Antonin Dvorak, Quartett Nr. 13 G-Dur op. 106
Nach der R&uuml;ckkehr aus Amerika f&uuml;hlt sich Dvorak h&ouml;chst inspiriert und schreibt in rascher Folge seine beiden letzten Quartette, in denen er seine gesamte Kunstfertigkeit summiert.

Tickets:

VVK 23 EUR / 20 EUR zzgl. VVK-Geb&uuml;hren
unter www.reservix.de oder unter 0241 432-4923 und locations@mail.aachen.de&nbsp;&nbsp;

&nbsp;Tageskasse 27 EUR / 24 EUR
Der Ticketpreis beinhaltet auch Kaffee und Kuchen, die in der Pause gereicht werden.

Infos unter www.chapellequartett.de

Infos zum Couven Museum unter www.couven-museum.de&nbsp;
 Veröffentlicht von  https://www.lebendiges-aachen.de/
LAST-MODIFIED:20260421T100424
END:VEVENT
END:VCALENDAR
