BEGIN:VCALENDAR
PRODID:/modules.php?act=getical&eid=37757&name=Schedule
VERSION:2.0
CALSCALE:GREGORIAN
METHOD:PUBLISH
X-WR-CALNAME:Lebendiges Aachen-Rundgang - Die Botanik auf Hohenbusch und ihre Geschichte
X-WR-TIMEZONE:Europe/Berlin
X-WR-CALDESC:Original by https://www.lebendiges-aachen.de/
 Created by mxSchedule 
 Tecmu 2010-2026
BEGIN:VTIMEZONE
TZID:Europe/Berlin
X-LIC-LOCATION:Europe/Berlin
BEGIN:STANDARD
TZOFFSETFROM:+0100
TZOFFSETTO:+0200
TZNAME:CEST
DTSTART:19701025T030000
RRULE:FREQ=YEARLY;BYMONTH=10;BYDAY=-1SU
END:STANDARD
BEGIN:DAYLIGHT
TZOFFSETFROM:+0100
TZOFFSETTO:+0200
TZNAME:CEST
DTSTART:19700329T020000
RRULE:FREQ=YEARLY;BYMONTH=4;BYDAY=1SU
END:DAYLIGHT
END:VTIMEZONE
BEGIN:VEVENT
ORGANIZER;CN=Bettina_Berg-bettina-berg@hotmail.de
DTSTART:20260607T150600
DTEND:20260607T180600
UID:2dfce2c7a7076056560a597fac7832a3
CREATED:20260421T110457
SUMMARY:Rundgang - Die Botanik auf Hohenbusch und ihre Geschichte
DESCRIPTION:Am Samstag, 7. Juni 2025, um 15:00 Uhr, l&auml;dt der F&ouml;rderverein Hohenbusch e. V. zu einem besonderen Rundgang &uuml;ber das Gel&auml;nde von Haus Hohenbusch ein. Dabei entdecken die Teilnehmenden die vielf&auml;ltige Botanik des historischen Klostergutes &ndash; von imposanten B&auml;umen &uuml;ber alte Str&auml;ucher bis hin zu den Wildkr&auml;utern, die rund um das Herrenhaus gedeihen.
W&auml;hrend des Spaziergangs erfahren die Besucher*innen Spannendes &uuml;ber die Geschichte und Besonderheiten der Pflanzenwelt auf Hohenbusch: Wie alt sind die &auml;ltesten B&auml;ume auf dem Gel&auml;nde? Und wie kam es zur Anpflanzung der eindrucksvollen Mammutbaumallee vor dem Herrenhaus?
Ein informativer und zugleich stimmungsvoller Nachmittag f&uuml;r alle, die Natur, Geschichte und die besondere Atmosph&auml;re von Haus Hohenbusch lieben.
Referentin: Dipl. &ndash; Biol. Christiane Federmann-D&ouml;bber.
Um Anmeldung wird gebeten unter: info-hohenbusch@erkelenz.de oder www.vhs-kreis-Heinsberg.de

Datum: 7. Juni 2026

Uhrzeit: 15:00 - 18:00 Uhr

Haus Hohenbusch, Hohenbuscher Stra&szlig;e, 41812 Erkelenz
Organisator

F&ouml;rderverein Haus Hohenbusch e.V.

&nbsp;
 Veröffentlicht von  https://www.lebendiges-aachen.de/
LAST-MODIFIED:20260421T110457
END:VEVENT
END:VCALENDAR
