BEGIN:VCALENDAR
PRODID:/modules.php?act=getical&eid=37756&name=Schedule
VERSION:2.0
CALSCALE:GREGORIAN
METHOD:PUBLISH
X-WR-CALNAME:Lebendiges Aachen-Haus Hohenbusch und seine wechselvolle Geschichte
X-WR-TIMEZONE:Europe/Berlin
X-WR-CALDESC:Original by https://www.lebendiges-aachen.de/
 Created by mxSchedule 
 Tecmu 2010-2026
BEGIN:VTIMEZONE
TZID:Europe/Berlin
X-LIC-LOCATION:Europe/Berlin
BEGIN:STANDARD
TZOFFSETFROM:+0100
TZOFFSETTO:+0200
TZNAME:CEST
DTSTART:19701025T030000
RRULE:FREQ=YEARLY;BYMONTH=10;BYDAY=-1SU
END:STANDARD
BEGIN:DAYLIGHT
TZOFFSETFROM:+0100
TZOFFSETTO:+0200
TZNAME:CEST
DTSTART:19700329T020000
RRULE:FREQ=YEARLY;BYMONTH=4;BYDAY=1SU
END:DAYLIGHT
END:VTIMEZONE
BEGIN:VEVENT
ORGANIZER;CN=Bettina_Berg-bettina-berg@hotmail.de
DTSTART:20261108T111100
DTEND:20261108T131100
UID:49c7af152d8a2ff5a89667dbb1726527
CREATED:20260421T060416
SUMMARY:Haus Hohenbusch und seine wechselvolle Geschichte
DESCRIPTION:Der Vortrag befasst sich mit der Geschichte von Haus Hohenbusch von den Anf&auml;ngen bis zur Gegenwart. Insbesondere werden die Geschichte des Ordens und die Rolle der Kreuzherren vermittelt. Ein weiterer Schwerpunkt des Vortrags bildet die Geschichte des Gutshofes nach der Aufl&ouml;sung des Klosters im Jahre 1802 bis heute.
Referent: Frank K&ouml;rfer

Veranstaltungsort Herrenhaus.

Informationen und Anmeldung: vhs Kreis Heinsberg, www.vhs-kreis-heinsberg.de

Um Anmeldung wird gebeten.

Datum: 8. November 2026

Uhrzeit: 11:00 - 13:00 Uhr

Haus Hohenbusch, Hohenbuscher Stra&szlig;e, 41812 Erkelenz
Organisator: F&ouml;rderverein Haus Hohenbusch e.V., info-hohenbusch@erkelenz.de

&nbsp;
 Veröffentlicht von  https://www.lebendiges-aachen.de/
LAST-MODIFIED:20260421T060416
END:VEVENT
END:VCALENDAR
