BEGIN:VCALENDAR
PRODID:/modules.php?act=getical&eid=37754&name=Schedule
VERSION:2.0
CALSCALE:GREGORIAN
METHOD:PUBLISH
X-WR-CALNAME:Lebendiges Aachen-Kräuterseminar auf Haus Hohenbusch
X-WR-TIMEZONE:Europe/Berlin
X-WR-CALDESC:Original by https://www.lebendiges-aachen.de/
 Created by mxSchedule 
 Tecmu 2010-2026
BEGIN:VTIMEZONE
TZID:Europe/Berlin
X-LIC-LOCATION:Europe/Berlin
BEGIN:STANDARD
TZOFFSETFROM:+0100
TZOFFSETTO:+0200
TZNAME:CEST
DTSTART:19701025T030000
RRULE:FREQ=YEARLY;BYMONTH=10;BYDAY=-1SU
END:STANDARD
BEGIN:DAYLIGHT
TZOFFSETFROM:+0100
TZOFFSETTO:+0200
TZNAME:CEST
DTSTART:19700329T020000
RRULE:FREQ=YEARLY;BYMONTH=4;BYDAY=1SU
END:DAYLIGHT
END:VTIMEZONE
BEGIN:VEVENT
ORGANIZER;CN=Bettina_Berg-bettina-berg@hotmail.de
DTSTART:20260620T150600
DTEND:20260620T170615
UID:1ed81a087d71c8857c0ac933ea0098cb
CREATED:20260420T200449
SUMMARY:Kräuterseminar auf Haus Hohenbusch
DESCRIPTION:Kr&auml;uterlust III: Angebot besonders f&uuml;r Familien

Wer hat Angst vorm b&ouml;sen Kraut?

Christiane und die Kr&auml;uterdetektive. Mit allen Sinnen Kr&auml;uter wahrnehmen.

F&uuml;r Eltern oder Gro&szlig;eltern mit Kindern von 6 bis 10 Jahren.

Materialkosten: 5 Euro (bitte vor Ort bezahlen).

Veranstaltungsort: Herrenhaus und Kr&auml;utergarten
Referentin Dr. Christiane Leonards-Schippers

Informationen und Anmeldung: vhs Kreis Heinsberg, www.vhs-kreis-heinsberg.de

Datum:20. Juni 2026

Uhrzeit: 15:00 - 17:15 Uhr

Haus Hohenbusch, Hohenbuscher Stra&szlig;e, 41812 Erkelenz
Organisator: F&ouml;rderverein Haus Hohenbusch und VHS Heinsberg, vhs-kreis-heinsberg.de

&nbsp;
 Veröffentlicht von  https://www.lebendiges-aachen.de/
LAST-MODIFIED:20260420T200449
END:VEVENT
END:VCALENDAR
