BEGIN:VCALENDAR
PRODID:/modules.php?act=getical&eid=37751&name=Schedule
VERSION:2.0
CALSCALE:GREGORIAN
METHOD:PUBLISH
X-WR-CALNAME:Lebendiges Aachen-27. Bauernmarkt auf Haus Hohenbusch
X-WR-TIMEZONE:Europe/Berlin
X-WR-CALDESC:Original by https://www.lebendiges-aachen.de/
 Created by mxSchedule 
 Tecmu 2010-2026
BEGIN:VTIMEZONE
TZID:Europe/Berlin
X-LIC-LOCATION:Europe/Berlin
BEGIN:STANDARD
TZOFFSETFROM:+0100
TZOFFSETTO:+0200
TZNAME:CEST
DTSTART:19701025T030000
RRULE:FREQ=YEARLY;BYMONTH=10;BYDAY=-1SU
END:STANDARD
BEGIN:DAYLIGHT
TZOFFSETFROM:+0100
TZOFFSETTO:+0200
TZNAME:CEST
DTSTART:19700329T020000
RRULE:FREQ=YEARLY;BYMONTH=4;BYDAY=1SU
END:DAYLIGHT
END:VTIMEZONE
BEGIN:VEVENT
ORGANIZER;CN=Bettina_Berg-bettina-berg@hotmail.de
DTSTART:20261003T101000
DTEND:20261004T181000
UID:4fc49d9bdb40732c20d1928b267ca960
CREATED:20260420T150452
SUMMARY:27. Bauernmarkt auf Haus Hohenbusch
DESCRIPTION:Landleben hautnah &ndash; Tradition, Handwerk und Genuss im historischen Ambiente
Am 3. und 4. Oktober 2026 &ouml;ffnet der beliebte Bauernmarkt auf Haus Hohenbusch seine Tore und l&auml;dt zu einem Wochenende voller regionaler Vielfalt und l&auml;ndlicher Atmosph&auml;re ein. T&auml;glich von 10:00 bis 18:00 Uhr erwartet Besucher*innen auf dem Gel&auml;nde des ehemaligen Kreuzherrenklosters ein Markterlebnis der besonderen Art.
Mehr als 150 Ausstellende pr&auml;sentieren eine beeindruckende Auswahl an landwirtschaftlichen Erzeugnissen aus biologischem und konventionellem Anbau, Gartenbauprodukten, handwerklichen Unikaten und kunstvoll gefertigten Arbeiten.
Zwischen alten Mauern, Kopfsteinpflaster und weiten Gr&uuml;nfl&auml;chen entsteht eine einzigartige Kulisse, die zum Bummeln, Probieren und Staunen einl&auml;dt.
Ob frische Produkte direkt vom Erzeuger, kreative Geschenkideen oder einfach ein sch&ouml;ner Tag inmitten l&auml;ndlicher Idylle &ndash; der Bauernmarkt auf Haus Hohenbusch ist ein Ausflugsziel f&uuml;r die ganze Familie und ein fester H&ouml;hepunkt im Erkelenzer Veranstaltungskalender.
Weitere Informationen: www.bauernmarkt-hohenbusch.de

Haus Hohenbusch, 41812 Erkelenz

bauernmarkt-hohenbusch.de
Organisator: Veranstaltungsgemeinschaft Bauernmarkt auf Hohenbusch e.V
 Veröffentlicht von  https://www.lebendiges-aachen.de/
LAST-MODIFIED:20260420T150452
END:VEVENT
END:VCALENDAR
