BEGIN:VCALENDAR
PRODID:/modules.php?act=getical&eid=36837&name=Schedule
VERSION:2.0
CALSCALE:GREGORIAN
METHOD:PUBLISH
X-WR-CALNAME:Lebendiges Aachen-Wochenmarkt Alsdorf
X-WR-TIMEZONE:Europe/Berlin
X-WR-CALDESC:Original by https://www.lebendiges-aachen.de/
 Created by mxSchedule 
 Tecmu 2010-2026
BEGIN:VTIMEZONE
TZID:Europe/Berlin
X-LIC-LOCATION:Europe/Berlin
BEGIN:STANDARD
TZOFFSETFROM:+0100
TZOFFSETTO:+0200
TZNAME:CEST
DTSTART:19701025T030000
RRULE:FREQ=YEARLY;BYMONTH=10;BYDAY=-1SU
END:STANDARD
BEGIN:DAYLIGHT
TZOFFSETFROM:+0100
TZOFFSETTO:+0200
TZNAME:CEST
DTSTART:19700329T020000
RRULE:FREQ=YEARLY;BYMONTH=4;BYDAY=1SU
END:DAYLIGHT
END:VTIMEZONE
BEGIN:VEVENT
ORGANIZER;CN=Bettina_Berg-bettina-berg@hotmail.de
DTSTART:20260829T080900
DTEND:20260829T130900
UID:
CREATED:20260420T100405
SUMMARY:Wochenmarkt Alsdorf
DESCRIPTION:jeden Samstag&nbsp; von 8 bis 13 Uhr
Der Frankenberger&nbsp; Wochenmarkt bietet die M&ouml;glichkeit, unter freiem Himmel gem&uuml;tlich einzukaufen. Frische Produkte aus der Region sind hier beispielsweise zu finden. Aber auch zum Schlemmen, Kaffe trinken oder einfach nur zum bummeln l&auml;dt der Markt ein.
Dieser Termin wurde als wiederholender Termin eingetragen - &Auml;nderungen sind m&ouml;glich.

Ort: Anna-Park-Center
 Veröffentlicht von  https://www.lebendiges-aachen.de/
LAST-MODIFIED:20260420T100405
END:VEVENT
END:VCALENDAR
