BEGIN:VCALENDAR
PRODID:/modules.php?act=getical&eid=35795&name=Schedule
VERSION:2.0
CALSCALE:GREGORIAN
METHOD:PUBLISH
X-WR-CALNAME:Lebendiges Aachen-Wochenmarkt Stolberg - Kaiserplatz
X-WR-TIMEZONE:Europe/Berlin
X-WR-CALDESC:Original by https://www.lebendiges-aachen.de/
 Created by mxSchedule 
 Tecmu 2010-2026
BEGIN:VTIMEZONE
TZID:Europe/Berlin
X-LIC-LOCATION:Europe/Berlin
BEGIN:STANDARD
TZOFFSETFROM:+0100
TZOFFSETTO:+0200
TZNAME:CEST
DTSTART:19701025T030000
RRULE:FREQ=YEARLY;BYMONTH=10;BYDAY=-1SU
END:STANDARD
BEGIN:DAYLIGHT
TZOFFSETFROM:+0100
TZOFFSETTO:+0200
TZNAME:CEST
DTSTART:19700329T020000
RRULE:FREQ=YEARLY;BYMONTH=4;BYDAY=1SU
END:DAYLIGHT
END:VTIMEZONE
BEGIN:VEVENT
ORGANIZER;CN=Stadt_Stolberg-kerstin.meinhard@stolberg.de
DTSTART:20260813T080900
DTEND:20260813T130900
UID:
CREATED:20260421T170410
SUMMARY:Wochenmarkt Stolberg - Kaiserplatz
DESCRIPTION:jeden Donnerstag&nbsp; von 7 bis 13 Uhr

Der Wochenmarkt bietet die M&ouml;glichkeit, unter freiem Himmel gem&uuml;tlich einzukaufen. Frische Produkte aus der Region sind hier beispielsweise zu finden. Aber auch zum Schlemmen, Kaffe trinken oder einfach nur zum bummeln l&auml;dt der Markt ein.
Frisch, regional und direkt vom Erzeuger: Ab sofort bereichert ein weiterer Wochenmarkt die Innenstadt. Immer donnerstags von 7-13 Uhr verwandelt sich der Kaiserplatz in einen Treffpunkt f&uuml;r alle, die Wert auf Qualit&auml;t und Regionalit&auml;t legen.
Besucher d&uuml;rfen sich auf eine vielf&auml;ltige Auswahl an saisonalem Obst, frischen Backwaren, Eier- und Eierprodukten, Backfisch und Kibbeling sowie Wurstspezialit&auml;ten freuen.
Alle Interessierten sind herzlich eingeladen, den neuen Wochenmarkt zu besuchen.&nbsp; &nbsp;&nbsp;

Dieser Termin wurde als wiederholender Termin eingetragen - &Auml;nderungen sind m&ouml;glich.
 Veröffentlicht von  https://www.lebendiges-aachen.de/
LAST-MODIFIED:20260421T170410
END:VEVENT
END:VCALENDAR
