BEGIN:VCALENDAR
PRODID:/modules.php?act=getical&eid=35121&name=Schedule
VERSION:2.0
CALSCALE:GREGORIAN
METHOD:PUBLISH
X-WR-CALNAME:Lebendiges Aachen-Stadtbücherei Baesweiler: Lesemäuse für Kinder von 3 bis 6 Jahren
X-WR-TIMEZONE:Europe/Berlin
X-WR-CALDESC:Original by https://www.lebendiges-aachen.de/
 Created by mxSchedule 
 Tecmu 2010-2026
BEGIN:VTIMEZONE
TZID:Europe/Berlin
X-LIC-LOCATION:Europe/Berlin
BEGIN:STANDARD
TZOFFSETFROM:+0100
TZOFFSETTO:+0200
TZNAME:CEST
DTSTART:19701025T030000
RRULE:FREQ=YEARLY;BYMONTH=10;BYDAY=-1SU
END:STANDARD
BEGIN:DAYLIGHT
TZOFFSETFROM:+0100
TZOFFSETTO:+0200
TZNAME:CEST
DTSTART:19700329T020000
RRULE:FREQ=YEARLY;BYMONTH=4;BYDAY=1SU
END:DAYLIGHT
END:VTIMEZONE
BEGIN:VEVENT
ORGANIZER;CN=Stadt_Baesweiler-bettina-berg@hotmail.de
DTSTART:20260623T160700
DTEND:20260623T160745
UID:
CREATED:20260419T190446
SUMMARY:Stadtbücherei Baesweiler: Lesemäuse für Kinder von 3 bis 6 Jahren
DESCRIPTION:Dieser Termin wiederholt sich jede Woche. Bei den Lesem&auml;usen machen Vorlesepatinnen und -paten B&uuml;cher mit allen Sinnen erlebbar. Das Angebot richtet sich an Kinder von 3 bis 6 Jahren mit ihren Eltern. Es wird vorgelesen, erz&auml;hlt und gemalt. Eine Anmeldung ist nicht erforderlich. Weitere Informationen zu dem Angebot erhalten Sie bei der Stadtb&uuml;cherei Baesweiler: 02401/895644.
 Veröffentlicht von  https://www.lebendiges-aachen.de/
LAST-MODIFIED:20260419T190446
END:VEVENT
END:VCALENDAR
