BEGIN:VCALENDAR
PRODID:/modules.php?act=getical&eid=33763&name=Schedule
VERSION:2.0
CALSCALE:GREGORIAN
METHOD:PUBLISH
X-WR-CALNAME:Lebendiges Aachen-Vorlesestunde - Bilderbuchkino in der Stadtteilbibliothek DEPOT Talstraße
X-WR-TIMEZONE:Europe/Berlin
X-WR-CALDESC:Original by https://www.lebendiges-aachen.de/
 Created by mxSchedule 
 Tecmu 2010-2026
BEGIN:VTIMEZONE
TZID:Europe/Berlin
X-LIC-LOCATION:Europe/Berlin
BEGIN:STANDARD
TZOFFSETFROM:+0100
TZOFFSETTO:+0200
TZNAME:CEST
DTSTART:19701025T030000
RRULE:FREQ=YEARLY;BYMONTH=10;BYDAY=-1SU
END:STANDARD
BEGIN:DAYLIGHT
TZOFFSETFROM:+0100
TZOFFSETTO:+0200
TZNAME:CEST
DTSTART:19700329T020000
RRULE:FREQ=YEARLY;BYMONTH=4;BYDAY=1SU
END:DAYLIGHT
END:VTIMEZONE
BEGIN:VEVENT
ORGANIZER;CN=Bettina_Berg-bettina-berg@hotmail.de
DTSTART:20260512T160700
DTEND:20260512T080730
UID:
CREATED:20260420T000458
SUMMARY:Vorlesestunde - Bilderbuchkino in der Stadtteilbibliothek DEPOT Talstraße
DESCRIPTION:Vorlesestunde in der Stadtteilbibliothek Ost f&uuml;r Kinder ab 3 Jahren. Immer Dienstags ab 16.00 Uhr. (jeden ersten Dienstag im Monat findet anstatt der Vorlesestunde ein Bilderbuchkino statt)

In den Ferien findet diese Veranstaltungen nicht statt.

(jeden ersten Dienstag im Monat findet anstatt der Vorlesestunde ein Bilderbuchkino statt)
Hallo Kinder! Habt ihr Lust zu unserem Bilderbuchkino zu kommen? Ein Bilderbuchkino ist eine Form des Vorlesens mit einer Pr&auml;sentation der Bilder.
W&auml;hrend den Kindern der Text des Buches vorgelesen wird, betrachten diese die Bilder aus dem Buch auf einer Leinwand, so dass auch eine gro&szlig;e Gruppe von Kindern gleichzeitig die Bilder betrachten kann.

Die Stadtbibliothek sowie die Zweigstellen Depot und Haaren f&uuml;hren regelm&auml;&szlig;ig Bilderbuchkinos vor. Informiert euch einfach auf unseren WebOpac, &uuml;ber unsere Social Media Kan&auml;le oder pers&ouml;nlich vor Ort.

Die Teilnahme ist immer kostenfrei und eine Anmeldung ist nicht erforderlich!


&Ouml;ffnungszeiten:
Di, Mi, Do 14 &ndash; 17 Uhr, Fr 10 &ndash; 12 Uhr

Die Veranstaltung ist kostenlos. Eine Anmeldung ist nicht n&ouml;tig.

08.07.25: Lieselotte macht Urlaub
09.09.25: Die kleine Rittereule
07.10.25: Pino und Lela &ndash; Ein Wald voller Sch&auml;tze
04.11.25: Wo ist das Klopapier?
02.12.25: Lieselotte Weihnachtskuh
 Veröffentlicht von  https://www.lebendiges-aachen.de/
LAST-MODIFIED:20260420T000458
END:VEVENT
END:VCALENDAR
