BEGIN:VCALENDAR
PRODID:/modules.php?act=getical&eid=1934&name=Schedule
VERSION:2.0
CALSCALE:GREGORIAN
METHOD:PUBLISH
X-WR-CALNAME:Lebendiges Aachen-Vorlesestunde in der Bücherei Haaren
X-WR-TIMEZONE:Europe/Berlin
X-WR-CALDESC:Original by https://www.lebendiges-aachen.de/
 Created by mxSchedule 
 Tecmu 2010-2026
BEGIN:VTIMEZONE
TZID:Europe/Berlin
X-LIC-LOCATION:Europe/Berlin
BEGIN:STANDARD
TZOFFSETFROM:+0100
TZOFFSETTO:+0200
TZNAME:CEST
DTSTART:19701025T030000
RRULE:FREQ=YEARLY;BYMONTH=10;BYDAY=-1SU
END:STANDARD
BEGIN:DAYLIGHT
TZOFFSETFROM:+0100
TZOFFSETTO:+0200
TZNAME:CEST
DTSTART:19700329T020000
RRULE:FREQ=YEARLY;BYMONTH=4;BYDAY=1SU
END:DAYLIGHT
END:VTIMEZONE
BEGIN:VEVENT
ORGANIZER;CN=Bettina_Berg-bettina-berg@hotmail.de
DTSTART:20250704T160715
DTEND:20250704T160745
UID:fab51c118e2899c5f124f0cfd78dd985
CREATED:20260420T040412
SUMMARY:Vorlesestunde in der Bücherei Haaren
DESCRIPTION:Vorlesestunde in der Stadtteilbibliothek Aachen-Haaren f&uuml;r Kinder ab 3 Jahren. Immer Freitags.&nbsp; Die Teilnahme ist kostenfrei, eine Anmeldung ist nicht erforderlich.

In den Ferien findet diese Veranstaltungen nicht statt.&nbsp;
 Veröffentlicht von  https://www.lebendiges-aachen.de/
LAST-MODIFIED:20260420T040412
END:VEVENT
END:VCALENDAR
