BEGIN:VCALENDAR
PRODID:/modules.php?act=getical&eid=16702&name=Schedule
VERSION:2.0
CALSCALE:GREGORIAN
METHOD:PUBLISH
X-WR-CALNAME:Lebendiges Aachen-Vorlesestunde in der Zentralbibliothek
X-WR-TIMEZONE:Europe/Berlin
X-WR-CALDESC:Original by https://www.lebendiges-aachen.de/
 Created by mxSchedule 
 Tecmu 2010-2026
BEGIN:VTIMEZONE
TZID:Europe/Berlin
X-LIC-LOCATION:Europe/Berlin
BEGIN:STANDARD
TZOFFSETFROM:+0100
TZOFFSETTO:+0200
TZNAME:CEST
DTSTART:19701025T030000
RRULE:FREQ=YEARLY;BYMONTH=10;BYDAY=-1SU
END:STANDARD
BEGIN:DAYLIGHT
TZOFFSETFROM:+0100
TZOFFSETTO:+0200
TZNAME:CEST
DTSTART:19700329T020000
RRULE:FREQ=YEARLY;BYMONTH=4;BYDAY=1SU
END:DAYLIGHT
END:VTIMEZONE
BEGIN:VEVENT
ORGANIZER;CN=Bettina_Berg-bettina-berg@hotmail.de
DTSTART:20250703T170700
DTEND:20250703T180700
UID:38f400bcb20c864079d46cf9886387f1
CREATED:20260420T020440
SUMMARY:Vorlesestunde in der Zentralbibliothek
DESCRIPTION:Vorlesestunde in der Stadtteilbibliothek f&uuml;r Kinder ab 4 Jahren. Immer Donnerstags ab 17.00 Uhr
Treffpunkt: Kinderbibliothek (KiBi), Bilderbuchecke

In den Ferien findet diese Veranstaltungen nicht statt. 

&nbsp;

&nbsp;
 Veröffentlicht von  https://www.lebendiges-aachen.de/
LAST-MODIFIED:20260420T020440
END:VEVENT
END:VCALENDAR
